<?xml version="1.0" encoding="UTF-8" standalone="no"?>
<metadata xml:lang="en">
<Esri>
<CreaDate>20230414</CreaDate>
<CreaTime>12143100</CreaTime>
<ArcGISFormat>1.0</ArcGISFormat>
<SyncOnce>FALSE</SyncOnce>
<DataProperties>
<lineage>
<Process Date="20230414" Name="" Time="121431" ToolSource="d:\public\server\apps\arcgis\pro\Resources\ArcToolbox\toolboxes\Data Management Tools.tbx\CreateMosaicDataset" export="">CreateMosaicDataset D:\Public\Data\ags_autoupdates\geopub\OCSPP\MosaicDatasets.gdb Ag PROJCS["WGS_1984_Web_Mercator_Auxiliary_Sphere",GEOGCS["GCS_WGS_1984",DATUM["D_WGS_1984",SPHEROID["WGS_1984",6378137.0,298.257223563]],PRIMEM["Greenwich",0.0],UNIT["Degree",0.0174532925199433]],PROJECTION["Mercator_Auxiliary_Sphere"],PARAMETER["False_Easting",0.0],PARAMETER["False_Northing",0.0],PARAMETER["Central_Meridian",0.0],PARAMETER["Standard_Parallel_1",0.0],PARAMETER["Auxiliary_Sphere_Type",0.0],UNIT["Meter",1.0]] # # None #</Process>
<Process Date="20230414" Name="" Time="122341" ToolSource="d:\public\server\apps\arcgis\pro\Resources\ArcToolbox\toolboxes\Data Management Tools.tbx\AddRastersToMosaicDataset" export="">AddRastersToMosaicDataset D:\Public\Data\ags_autoupdates\geopub\OCSPP\MosaicDatasets.gdb\Ag "Raster Dataset" D:\Public\Data\ags_autoupdates\geopub\OCSPP\RasterProxyFiles\Ag_AK.mrf;D:\Public\Data\ags_autoupdates\geopub\OCSPP\RasterProxyFiles\Ag_AS.mrf;D:\Public\Data\ags_autoupdates\geopub\OCSPP\RasterProxyFiles\Ag_CNMI.mrf;D:\Public\Data\ags_autoupdates\geopub\OCSPP\RasterProxyFiles\Ag_GU.mrf;D:\Public\Data\ags_autoupdates\geopub\OCSPP\RasterProxyFiles\Ag_HI.mrf;D:\Public\Data\ags_autoupdates\geopub\OCSPP\RasterProxyFiles\Ag_PR.mrf;D:\Public\Data\ags_autoupdates\geopub\OCSPP\RasterProxyFiles\Ag_VI.mrf UPDATE_CELL_SIZES UPDATE_BOUNDARY NO_OVERVIEWS # 0 1500 # # SUBFOLDERS "Allow duplicates" NO_PYRAMIDS NO_STATISTICS BUILD_THUMBNAILS # NO_FORCE_SPATIAL_REFERENCE NO_STATISTICS # NO_PIXEL_CACHE C:\Users\thultgre\AppData\Local\ESRI\rasterproxies\Ag</Process>
<Process Date="20230417" Name="" Time="192653" ToolSource="d:\public\server\apps\arcgis\pro\Resources\ArcToolbox\toolboxes\Data Management Tools.tbx\BuildPyramidsandStatistics" export="">BuildPyramidsandStatistics D:\Public\Data\ags_autoupdates\geopub\OCSPP\MosaicDatasets.gdb\Ag INCLUDE_SUBDIRECTORIES BUILD_PYRAMIDS CALCULATE_STATISTICS BUILD_ON_SOURCE # NONE 1 1 # -1 NONE "Nearest neighbor" Default 75 SKIP_EXISTING # NONE</Process>
</lineage>
<itemProps>
<imsContentType export="False"/>
<itemName Sync="TRUE">Cultivated</itemName>
<itemLocation>
<linkage Sync="TRUE">file://\\AW18H1NCASSINI\D$\Public\Data\ags_autoupdates\geopub\OCSPP\MosaicDatasets.gdb</linkage>
<protocol Sync="TRUE">Local Area Network</protocol>
</itemLocation>
<nativeExtBox>
<westBL Sync="TRUE">-14236341.096200</westBL>
<eastBL Sync="TRUE">-7274211.096200</eastBL>
<southBL Sync="TRUE">2624781.422500</southBL>
<northBL Sync="TRUE">6728811.422500</northBL>
<exTypeCode Sync="TRUE">1</exTypeCode>
</nativeExtBox>
</itemProps>
<coordRef>
<type Sync="TRUE">Projected</type>
<geogcsn Sync="TRUE">GCS_WGS_1984</geogcsn>
<csUnits Sync="TRUE">Linear Unit: Meter (1.000000)</csUnits>
<projcsn Sync="TRUE">WGS_1984_Web_Mercator_Auxiliary_Sphere</projcsn>
<peXml Sync="TRUE">&lt;ProjectedCoordinateSystem xsi:type='typens:ProjectedCoordinateSystem' xmlns:xsi='http://www.w3.org/2001/XMLSchema-instance' xmlns:xs='http://www.w3.org/2001/XMLSchema' xmlns:typens='http://www.esri.com/schemas/ArcGIS/3.1.0'&gt;&lt;WKT&gt;PROJCS[&amp;quot;WGS_1984_Web_Mercator_Auxiliary_Sphere&amp;quot;,GEOGCS[&amp;quot;GCS_WGS_1984&amp;quot;,DATUM[&amp;quot;D_WGS_1984&amp;quot;,SPHEROID[&amp;quot;WGS_1984&amp;quot;,6378137.0,298.257223563]],PRIMEM[&amp;quot;Greenwich&amp;quot;,0.0],UNIT[&amp;quot;Degree&amp;quot;,0.0174532925199433]],PROJECTION[&amp;quot;Mercator_Auxiliary_Sphere&amp;quot;],PARAMETER[&amp;quot;False_Easting&amp;quot;,0.0],PARAMETER[&amp;quot;False_Northing&amp;quot;,0.0],PARAMETER[&amp;quot;Central_Meridian&amp;quot;,0.0],PARAMETER[&amp;quot;Standard_Parallel_1&amp;quot;,0.0],PARAMETER[&amp;quot;Auxiliary_Sphere_Type&amp;quot;,0.0],UNIT[&amp;quot;Meter&amp;quot;,1.0],AUTHORITY[&amp;quot;EPSG&amp;quot;,3857]]&lt;/WKT&gt;&lt;XOrigin&gt;-20037700&lt;/XOrigin&gt;&lt;YOrigin&gt;-30241100&lt;/YOrigin&gt;&lt;XYScale&gt;148923141.92838538&lt;/XYScale&gt;&lt;ZOrigin&gt;-100000&lt;/ZOrigin&gt;&lt;ZScale&gt;10000&lt;/ZScale&gt;&lt;MOrigin&gt;-100000&lt;/MOrigin&gt;&lt;MScale&gt;10000&lt;/MScale&gt;&lt;XYTolerance&gt;0.001&lt;/XYTolerance&gt;&lt;ZTolerance&gt;0.001&lt;/ZTolerance&gt;&lt;MTolerance&gt;0.001&lt;/MTolerance&gt;&lt;HighPrecision&gt;true&lt;/HighPrecision&gt;&lt;WKID&gt;102100&lt;/WKID&gt;&lt;LatestWKID&gt;3857&lt;/LatestWKID&gt;&lt;/ProjectedCoordinateSystem&gt;</peXml>
</coordRef>
<RasterProperties>
<General>
<PixelDepth Sync="TRUE">32</PixelDepth>
<HasColormap Sync="TRUE">FALSE</HasColormap>
<CompressionType Sync="TRUE">None</CompressionType>
<NumBands Sync="TRUE">1</NumBands>
<Format Sync="TRUE">AMD</Format>
<HasPyramids Sync="TRUE">TRUE</HasPyramids>
<SourceType Sync="TRUE">continuous</SourceType>
<PixelType Sync="TRUE">signed integer</PixelType>
<NoDataValue Sync="TRUE"/>
</General>
<Properties>
<MaxImageHeight Sync="TRUE">4100</MaxImageHeight>
<MaxImageWidth Sync="TRUE">15000</MaxImageWidth>
<MaxRecordCount Sync="TRUE">1000</MaxRecordCount>
<MaxDownloadImageCount Sync="TRUE">20</MaxDownloadImageCount>
<MaxDownloadSizeLimit Sync="TRUE">2048</MaxDownloadSizeLimit>
<MaxMosaicImageCount Sync="TRUE">20</MaxMosaicImageCount>
<DefaultCompressionQuality Sync="TRUE">75</DefaultCompressionQuality>
<DefaultCompressionTolerance Sync="TRUE">0.01</DefaultCompressionTolerance>
<BlendWidth Sync="TRUE">10</BlendWidth>
<ViewpointSpacingX Sync="TRUE">600</ViewpointSpacingX>
<ViewpointSpacingY Sync="TRUE">300</ViewpointSpacingY>
<AllowedItemMetadata Sync="TRUE">Basic</AllowedItemMetadata>
<DefaultResamplingMethod Sync="TRUE">1</DefaultResamplingMethod>
<AllowedMosaicMethods Sync="TRUE">NorthWest,Center,LockRaster,ByAttribute,Nadir,Viewpoint,Seamline,None</AllowedMosaicMethods>
<AllowedCompressions Sync="TRUE">None,JPEG,LZ77,LERC</AllowedCompressions>
<AllowedMensurationCapabilities Sync="TRUE">None</AllowedMensurationCapabilities>
<AvailableMensurationCapabilities Sync="TRUE">None,Basic,Base-Top Height,Top-Top Shadow Height,Base-Top Shadow Height,3D</AvailableMensurationCapabilities>
<ClipToBoundary Sync="TRUE">-1</ClipToBoundary>
<FootprintMayContainNoData Sync="TRUE">-1</FootprintMayContainNoData>
<CellSizeTolerance Sync="TRUE">0.8</CellSizeTolerance>
<MinimumPixelContribution Sync="TRUE">1</MinimumPixelContribution>
<AvailableMosaicMethods Sync="TRUE">NorthWest,Center,LockRaster,ByAttribute,Nadir,Viewpoint,Seamline,None</AvailableMosaicMethods>
<AvailableCompressionMethods Sync="TRUE">None,JPEG,LZ77,LERC</AvailableCompressionMethods>
<AvailableItemMetadataLevels Sync="TRUE">None,Basic,Full</AvailableItemMetadataLevels>
<BandDefinitionKeyword Sync="TRUE">NONE</BandDefinitionKeyword>
<_docversion_ Sync="TRUE">10</_docversion_>
<AllowedFields Sync="TRUE">Name,MinPS,MaxPS,LowPS,HighPS,Tag,GroupName,ProductName,CenterX,CenterY,ZOrder,Shape_Length,Shape_Area</AllowedFields>
<MaxCellSize Sync="TRUE">864000</MaxCellSize>
<LowCellSize Sync="TRUE">30</LowCellSize>
<HighCellSize Sync="TRUE">1920</HighCellSize>
<PixelCacheLocation Sync="TRUE">C:\Users\thultgre\AppData\Local\ESRI\rasterproxies\Cultivated</PixelCacheLocation>
</Properties>
<Functions Sync="TRUE">
<Function Description="Performs on-the-fly mosaic on a raster catalog." Name="Mosaic Function"/>
</Functions>
</RasterProperties>
</DataProperties>
<scaleRange>
<minScale>150000000</minScale>
<maxScale>5000</maxScale>
</scaleRange>
<ArcGISProfile>ISO19115_3</ArcGISProfile>
<SyncDate>20230613</SyncDate>
<SyncTime>16035400</SyncTime>
<ModDate>20230614</ModDate>
<ModTime>17112500</ModTime>
</Esri>
<dataIdInfo>
<idPurp>This image service depicts a Use Data Layer (UDL) that includes all cultivated crops as defined in USDA's Cultivated Layer used by US EPA's Office of Pesticide Programs (OPP) in endangered species risk assessments.</idPurp>
<idAbs>This image service depicts a Use Data Layer (UDL) that includes all cultivated crops as defined in USDA's Cultivated Layer used by US EPA's Office of Pesticide Programs (OPP) in endangered species risk assessments. These UDLs represent anywhere specific pesticide uses could be applied based on a pesticide label, and not where pesticides are currently being used. UDLs generated using a number of national data sources including but not limited to United State Department of Agriculture's Cropland Data Layer, United State Geological Survey (USGS) National Landcover Database and National Oceanic &amp; Atmospheric Organization (NOAA) Coastal Change Analysis Program. Updated routinely, this snapshot represents the data currently used by OPP.
The Endangered Species Act (ESA) provides a program for the conservation of threatened and endangered species and the habitats in which they are found. The U.S. Fish and Wildlife Service (USFWS) and the National Marine Fisheries Service of U.S. National Oceanic and Atmospheric Organization (NMFS/NOAA) lead federal implementation of the ESA, though they are supported by other federal agencies, including the U.S. Environmental Protection Agency (US EPA), as part of the Section 7 consultation process. Section 7 of the ESA directs all Federal agencies to conserve endangered and threatened species and to use their authorities to ensure actions do not jeopardized the further existence of threatened and endangered species or adversely modify designated critical habitats. As part of the Section 7 consultation, Federal agencies work with USFWS and NMFS to identify species found within the jurisdiction of the United States that could be affected by actions carried out by the agency.
The US EPA's Office of Pesticide Programs (OPP) is responsible for ensuring that Agency actions under the Federal Insecticide, Fungicide, and Rodenticide Act (FIFRA) are in compliance with ESA. OPP determines if ESA-listed species or their designated critical habitat may be affected by pesticide products. Pesticide products that "may affect" an ESA-listed species or its designated critical habitat may be subject to additional regulation.
Use Data Layers (UDLs) represent the potential pesticide application sites for agricultural and non-agricultural label uses and associated potential off-site impact areas. These UDLs supports the section 7 consultation process in the overlap analysis that identifies species found on or near these potential pesticide use locations. Generated from many different land cover and land use datasets, several methods have been employed to ensure sufficient accuracy and conservatism for decision making. All UDLs include off-site areas. Off-site areas are not directly applied by pesticides but could be impacted following application through spray drift or run-off. These areas are delineated by distance from the closest source use site from any direction. Several raster functions are available to symbolize the UDLs based on different off-site distances of interest. These include:
Use Site: Distances included (in meters)
0: Field or Use Site
Limited Extent: Distances included (in meters)
0: Field or Use Site
30: Directly adjacent / runoff to terrestrial habitats
150: Common limit for spray drift exposure concerns related to species population level effects
Full Extent: Distances included (in meters)
0: Field or Use Site
30: Directly adjacent / runoff to terrestrial habitats
305: Limits of spray drift model for ground application or airblast
792: Limits of spray drift model for aerial applications
1600: Runoff model limit to wetland habitat
Additional methods used in the development of specific UDLs and the associated data source(s) included below.
The Agriculture UDL includes all agricultural crops. No additional methods applied to depict areas where pesticide applications could occur to support decision making. The source GeoTiffs may be downloaded here:
https://geopub.epa.gov/OCSPP_Downloads/Cultivated.zip
Data Sources:
CONUS: CDL 2017 Cultivated Layer</idAbs>
<idCredit>Feature Service: U.S. Environmental Protection Agency, Office of Chemical Safety &amp; Pollution Prevention, Office of Pesticide Programs Data Steward: United States Department of Agriculture National Agricultural Statistics Service, Cropland Data Layer, Census of Agriculture; Bureau of Land Management, Grazing Allotments; United States Geological Survey, National Land Cover Database, GAP Land Cover Data, GAP Protected Areas Database, LandFire Existing Vegetation Type LandFire Public Events GeoDatabase ; National Oceanic &amp; Atmospheric Organization, Coastal Change Analysis Program; United States Census Bureau, Topologically Integrated Geographic Encoding and Referencing database; United States Forest Service, Grazing Allotments; Bonneville Power Administration; Dun &amp; Bradstreet; ESRI StreetMap; NAVTEQ Street Data</idCredit>
<idCitation>
<resTitle Sync="FALSE">Cultivated</resTitle>
<presForm>
<PresFormCd Sync="TRUE" value="005"/>
</presForm>
<date>
<pubDate>2023-06-30</pubDate>
</date>
<citRespParty>
<editorSource>EPA Directory</editorSource>
<editorDigest>714cd5419d8473fb7b6ebe8d22bcee201d2c3c20</editorDigest>
<rpOrgName>U.S. Environmental Protection Agency, Office of Pesticide Programs</rpOrgName>
<rpIndName>Jennifer Connolly</rpIndName>
<rpPosName>Geospatial Data Steward</rpPosName>
<rpCntInfo>
<cntAddress addressType="both">
<delPoint>1301 Constitution Ave NW</delPoint>
<city>Washington</city>
<adminArea>DC</adminArea>
<postCode>20460</postCode>
<eMailAdd>connolly.jennifer@epa.gov</eMailAdd>
</cntAddress>
<cntPhone>
<voiceNum tddtty="">202-566-1612</voiceNum>
</cntPhone>
</rpCntInfo>
<editorSave>True</editorSave>
<displayName>[EPA Directory] Jennifer Connolly</displayName>
<role>
<RoleCd value="007"/>
</role>
</citRespParty>
</idCitation>
<placeKeys>
<thesaName>
<resTitle>EPA Place Names</resTitle>
<date>
<pubDate>2015-01-31</pubDate>
</date>
<citOnlineRes>
<linkage>https://ofmpub.epa.gov/sor_internet/registry/termreg/searchandretrieve/taxonomies/search.do?search=&amp;searchString=&amp;taxonomyName=WBT%20-%20Geographic%20Locations</linkage>
<orFunct>
<OnFunctCd value="002"/>
</orFunct>
<orName>Web Taxonomy - Geographic Locations</orName>
</citOnlineRes>
</thesaName>
<thesaLang>
<languageCode value="eng"/>
<countryCode value="US"/>
</thesaLang>
<keyword>United States</keyword>
</placeKeys>
<themeKeys>
<thesaLang>
<languageCode value="eng"/>
<countryCode value="US"/>
</thesaLang>
<thesaName>
<resTitle>EPA GIS Keyword Thesaurus</resTitle>
<date>
<pubDate>2007-11-02</pubDate>
</date>
<citOnlineRes>
<linkage>https://www.epa.gov/geospatial/epa-metadata-technical-specification</linkage>
<orFunct>
<OnFunctCd value="002"/>
</orFunct>
<orName>EPA Metadata Technical Specification</orName>
</citOnlineRes>
</thesaName>
<keyword>Agriculture</keyword>
<keyword>Biology</keyword>
<keyword>Compliance</keyword>
<keyword>Ecosystem</keyword>
<keyword>Environment</keyword>
<keyword>Ground Water</keyword>
<keyword>Impact</keyword>
<keyword>Land</keyword>
<keyword>Management</keyword>
<keyword>Monitoring</keyword>
<keyword>Natural Resources</keyword>
<keyword>Pesticides</keyword>
<keyword>Regulatory</keyword>
<keyword>Risk</keyword>
<keyword>Sites</keyword>
<keyword>Surface Water</keyword>
<keyword>Toxics</keyword>
<keyword>Waste</keyword>
<keyword>Water</keyword>
</themeKeys>
<themeKeys>
<thesaLang>
<languageCode value="eng"/>
<countryCode value="US"/>
</thesaLang>
<thesaName>
<resTitle>Federal Program Inventory</resTitle>
<date>
<pubDate>2013-09-16</pubDate>
</date>
<citOnlineRes>
<linkage>https://www.performance.gov/federalprograminventory</linkage>
<orFunct>
<OnFunctCd value="002"/>
</orFunct>
<orName>Federal Program Inventory</orName>
</citOnlineRes>
</thesaName>
<keyword>020:083</keyword>
</themeKeys>
<envirDesc Sync="TRUE">Microsoft Windows Server 2016 Technical Preview Version 10.0 (Build 17763) ; Esri ArcGIS 13.1.0.41833</envirDesc>
<dataLang>
<languageCode Sync="TRUE" value="eng"/>
<countryCode Sync="TRUE" value="USA"/>
</dataLang>
<spatRpType>
<SpatRepTypCd Sync="TRUE" value="002"/>
</spatRpType>
<dataExt>
<geoEle>
<GeoBndBox esriExtentType="search">
<exTypeCode Sync="TRUE">1</exTypeCode>
<westBL Sync="TRUE">-127.887228</westBL>
<eastBL Sync="TRUE">-65.345350</eastBL>
<northBL Sync="TRUE">51.603852</northBL>
<southBL Sync="TRUE">22.940142</southBL>
</GeoBndBox>
</geoEle>
</dataExt>
<themeKeys>
<thesaLang>
<languageCode value="eng"/>
<countryCode value="US"/>
</thesaLang>
<thesaName>
<resTitle>User</resTitle>
<date>
<pubDate>2023-05-26</pubDate>
</date>
</thesaName>
<keyword>biology</keyword>
<keyword>critical habitat</keyword>
<keyword>ECO</keyword>
<keyword>Ecosystems</keyword>
<keyword>endangered</keyword>
<keyword>endangered species</keyword>
<keyword>fish</keyword>
<keyword>habitat</keyword>
<keyword>National Oceanic and Atmospheric Organization</keyword>
<keyword>NOAA</keyword>
<keyword>range</keyword>
<keyword>SEGS</keyword>
<keyword>species</keyword>
<keyword>threatened</keyword>
<keyword>threatened species</keyword>
<keyword>United States Environmental Protection Agency</keyword>
<keyword>United States Fish and Wildlife Service</keyword>
<keyword>US Fish and Wildlife Service</keyword>
<keyword>USFWS</keyword>
<keyword>wildlife</keyword>
</themeKeys>
<dataChar>
<CharSetCd value="004"/>
</dataChar>
<idPoC>
<editorSource>EPA Directory</editorSource>
<editorDigest>714cd5419d8473fb7b6ebe8d22bcee201d2c3c20</editorDigest>
<rpOrgName>U.S. Environmental Protection Agency, Office of Pesticide Programs</rpOrgName>
<rpIndName>Jennifer Connolly</rpIndName>
<rpPosName>Geospatial Data Steward</rpPosName>
<rpCntInfo>
<cntAddress addressType="both">
<delPoint>1301 Constitution Ave NW</delPoint>
<city>Washington</city>
<adminArea>DC</adminArea>
<postCode>20460</postCode>
<eMailAdd>connolly.jennifer@epa.gov</eMailAdd>
</cntAddress>
<cntPhone>
<voiceNum tddtty="">202-566-1612</voiceNum>
</cntPhone>
</rpCntInfo>
<editorSave>True</editorSave>
<displayName>[EPA Directory] Jennifer Connolly</displayName>
<role>
<RoleCd value="010"/>
</role>
</idPoC>
<resMaint>
<maintFreq>
<MaintFreqCd value="009"/>
</maintFreq>
</resMaint>
<resConst>
<LegConsts>
<accessConsts>
<RestrictCd value="009">Unrestricted License</RestrictCd>
</accessConsts>
<othConsts>https://edg.epa.gov/EPA_Data_License.html</othConsts>
<useLimit>EPA Public Domain License</useLimit>
</LegConsts>
<Consts>
<useLimit>Terms of Use for Geospatial Data (https://www.epa.gov/web-policies-and-procedures/epa-disclaimers#geospatial)
These geospatial data and corresponding cartographic materials have been approved for use by the U.S. Environmental Protection Agency (EPA) as advised by the EPA Geospatial Advisory Committee (EGAC). This approved release is on the condition that neither the EPA nor the U.S. Government may be held liable for any damages resulting from its authorized or unauthorized use. These data and any corresponding products, services, or materials do not necessarily represent the EPA's official position or viewpoint, expressed or implied. These content items are not intended for use in establishing liability or calculating cost recovery statutes of limitations. They cannot be relied upon to create any rights, substantive or procedural, enforceable by any party in litigation with the United States or third parties. Additionally, although these data have been processed successfully on EPA computer systems, no warranty expressed or implied can be made regarding the accuracy or utility of the data on any other system or for general or scientific purposes, nor shall the act of distribution constitute any such warranty. The Agency reserves the right to revise EPA-stewarded datasets pursuant to further analysis and review without public notice. Unless otherwise specified, geospatial data produced by the EPA is by default in the public domain and is not subject to domestic copyright protection under 17 U.S.C. Section 105. Referenced data from non-EPA sources are neither inherently verified nor independently tested by the Agency in all circumstances. Permission to reproduce copyrighted items not produced by the EPA must be secured from the copyright owner. EPA strongly recommends careful attention be paid to metadata files associated with these data to better understand limitations, restrictions or intended use. The U.S. EPA shall not be held liable for improper or incorrect use of the data.</useLimit>
</Consts>
</resConst>
<resConst>
<SecConsts>
<class>
<ClasscationCd value="001">Unclassified</ClasscationCd>
</class>
</SecConsts>
</resConst>
<searchKeys>
<keyword>Biota</keyword>
<keyword>Environment</keyword>
<keyword>United States</keyword>
<keyword>Agriculture</keyword>
<keyword>Biology</keyword>
<keyword>Compliance</keyword>
<keyword>Ecosystem</keyword>
<keyword>Ground Water</keyword>
<keyword>Impact</keyword>
<keyword>Land</keyword>
<keyword>Management</keyword>
<keyword>Monitoring</keyword>
<keyword>Natural Resources</keyword>
<keyword>Pesticides</keyword>
<keyword>Regulatory</keyword>
<keyword>Risk</keyword>
<keyword>Sites</keyword>
<keyword>Surface Water</keyword>
<keyword>Toxics</keyword>
<keyword>Waste</keyword>
<keyword>Water</keyword>
<keyword>biology</keyword>
<keyword>critical habitat</keyword>
<keyword>ECO</keyword>
<keyword>Ecosystems</keyword>
<keyword>endangered</keyword>
<keyword>endangered species</keyword>
<keyword>fish</keyword>
<keyword>habitat</keyword>
<keyword>National Oceanic and Atmospheric Organization</keyword>
<keyword>NOAA</keyword>
<keyword>range</keyword>
<keyword>SEGS</keyword>
<keyword>species</keyword>
<keyword>threatened</keyword>
<keyword>threatened species</keyword>
<keyword>United States Environmental Protection Agency</keyword>
<keyword>United States Fish and Wildlife Service</keyword>
<keyword>US Fish and Wildlife Service</keyword>
<keyword>USFWS</keyword>
<keyword>wildlife</keyword>
<keyword>Pesticides: Protect the Environment from Pesticide Risk (Science and Technology</keyword>
<keyword>Environmental Programs and Management)</keyword>
</searchKeys>
<idStatus>
<ProgCd value="001"/>
</idStatus>
<tpCat>
<TopicCatCd value="002"/>
</tpCat>
<tpCat>
<TopicCatCd value="007"/>
</tpCat>
</dataIdInfo>
<mdHrLv>
<ScopeCd value="005"/>
</mdHrLv>
<mdDateSt Sync="FALSE">2023-06-14</mdDateSt>
<mdLang>
<languageCode Sync="TRUE" value="eng"/>
<countryCode Sync="TRUE" value="USA"/>
</mdLang>
<refSysInfo>
<RefSystem dimension="">
<refSysID>
<identCode Sync="TRUE" code="3857"/>
<idCodeSpace Sync="TRUE">EPSG</idCodeSpace>
<idVersion Sync="TRUE">6.18.3(9.3.1.2)</idVersion>
</refSysID>
</RefSystem>
</refSysInfo>
<spatRepInfo>
<Georect>
<cellGeo>
<CellGeoCd Sync="TRUE" value="002"/>
</cellGeo>
<numDims Sync="TRUE">2</numDims>
<tranParaAv Sync="TRUE">1</tranParaAv>
<chkPtAv Sync="TRUE">0</chkPtAv>
<cornerPts>
<pos Sync="TRUE">-14236341.096200 2624781.422500</pos>
</cornerPts>
<cornerPts>
<pos Sync="TRUE">-14236341.096200 6728811.422500</pos>
</cornerPts>
<cornerPts>
<pos Sync="TRUE">-7274211.096200 6728811.422500</pos>
</cornerPts>
<cornerPts>
<pos Sync="TRUE">-7274211.096200 2624781.422500</pos>
</cornerPts>
<centerPt>
<pos Sync="TRUE">-10755276.096200 4676796.422500</pos>
</centerPt>
<axisDimension type="002">
<dimSize Sync="TRUE">232071</dimSize>
<dimResol>
<value Sync="TRUE" uom="m">30.000000</value>
</dimResol>
</axisDimension>
<axisDimension type="001">
