{
 "extent": {
  "ymin": 35.154383747000061,
  "xmin": -119.71856623499997,
  "ymax": 35.618561935000059,
  "xmax": -119.06859819399997,
  "spatialReference": {
   "latestWkid": 4326,
   "wkid": 4326
  }
 },
 "blockWidth": 2048,
 "mosaicOperator": "First",
 "serviceSourceType": "esriImageServiceSourceTypeMosaicDataset",
 "hasMultidimensions": false,
 "maxImageWidth": 15000,
 "maxRecordCount": 1000,
 "meanValues": [
  3.2247191011235952,
  4.1685393258426986,
  7.7134831460674187,
  11.685393258426963
 ],
 "hasColormap": false,
 "compressionType": "None",
 "defaultCompressionQuality": 75,
 "maxValues": [
  117,
  153,
  237,
  255
 ],
 "hasHistograms": true,
 "datasetFormat": "AMD",
 "maxImageHeight": 4100,
 "sortField": "",
 "bandNames": [
  "Band_1",
  "Band_2",
  "Band_3",
  "Band_4"
 ],
 "spatialReference": {
  "latestWkid": 4326,
  "wkid": 4326
 },
 "fullExtent": {
  "ymin": 35.154383747000061,
  "xmin": -119.71856623499997,
  "ymax": 35.618561935000059,
  "xmax": -119.06859819399997,
  "spatialReference": {
   "latestWkid": 4326,
   "wkid": 4326
  }
 },
 "bandCount": 4,
 "rasterFunctionInfos": [
  {
   "help": "",
   "name": "None",
   "description": ""
  }
 ],
 "supportsStatistics": true,
 "sortableFields": "minps,maxps,lowps,highps,centerx,centery,zorder,attachment_id,created_dt,updated_dt,date_of_detection,date_of_response,facility_id,st_area(shape),st_perimeter(shape)",
 "minValues": [
  0,
  0,
  0,
  0
 ],
 "allowRasterFunction": true,
 "allowComputeTiePoints": false,
 "serviceDataType": "esriImageServiceDataTypeGeneric",
 "supportsAdvancedQueries": true,
 "maxDownloadSizeLimit": 2048,
 "currentVersion": 12.1,
 "sortValue": null,
 "objectIdField": "objectid",
 "blockHeight": 256,
 "initialExtent": {
  "ymin": 35.154383747000061,
  "xmin": -119.71856623499997,
  "ymax": 35.618561935000059,
  "xmax": -119.06859819399997,
  "spatialReference": {
   "latestWkid": 4326,
   "wkid": 4326
  }
 },
 "pixelSizeX": 0.000053898999999999499,
 "pixelSizeY": 0.00005389899999999979,
 "defaultMosaicMethod": "Northwest",
 "name": "OECA/msep_imagery",
 "allowedMosaicMethods": "NorthWest,Center,LockRaster,ByAttribute,Nadir,Viewpoint,Seamline,None",
 "maxDownloadImageCount": 20,
 "fields": [
  {
   "domain": null,
   "name": "objectid",
   "alias": "objectid",
   "type": "esriFieldTypeOID"
  },
  {
   "domain": null,
   "name": "name",
   "length": 200,
   "alias": "name",
   "type": "esriFieldTypeString"
  },
  {
   "domain": null,
   "name": "minps",
   "alias": "minps",
   "type": "esriFieldTypeDouble"
  },
  {
   "domain": null,
   "name": "maxps",
   "alias": "maxps",
   "type": "esriFieldTypeDouble"
  },
  {
   "domain": null,
   "name": "lowps",
   "alias": "lowps",
   "type": "esriFieldTypeDouble"
  },
  {
   "domain": null,
   "name": "highps",
   "alias": "highps",
   "type": "esriFieldTypeDouble"
  },
  {
   "domain": {
    "splitPolicy": "esriSPTDefaultValue",
    "name": "MosaicCatalogItemCategoryDomain",
    "description": "Catalog item categories.",
    "type": "codedValue",
    "codedValues": [
     {
      "code": 0,
      "name": "Unknown"
     },
     {
      "code": 1,
      "name": "Primary"
     },
     {
      "code": 2,
      "name": "Overview"
     },
     {
      "code": 3,
      "name": "Unprocessed Overview"
     },
     {
      "code": 4,
      "name": "Partial Overview"
     },
     {
      "code": 5,
      "name": "Inactive"
     },
     {
      "code": 253,
      "name": "Uploaded"
     },
     {
      "code": 254,
      "name": "Incomplete"
     },
     {
      "code": 255,
      "name": "Custom"
     }
    ],
    "mergePolicy": "esriMPTDefaultValue"
   },
   "name": "category",
   "alias": "category",
   "type": "esriFieldTypeInteger"
  },
  {
   "domain": null,
   "name": "tag",
   "length": 100,
   "alias": "tag",
   "type": "esriFieldTypeString"
  },
  {
   "domain": null,
   "name": "groupname",
   "length": 100,
   "alias": "groupname",
   "type": "esriFieldTypeString"
  },
  {
   "domain": null,
   "name": "productname",
   "length": 100,
   "alias": "productname",
   "type": "esriFieldTypeString"
  },
  {
   "domain": null,
   "name": "centerx",
   "alias": "centerx",
   "type": "esriFieldTypeDouble"
  },
  {
   "domain": null,
   "name": "centery",
   "alias": "centery",
   "type": "esriFieldTypeDouble"
  },
  {
   "domain": null,
   "name": "zorder",
   "alias": "zorder",
   "type": "esriFieldTypeInteger"
  },
  {
   "domain": null,
   "name": "shape",
   "alias": "shape",
   "type": "esriFieldTypeGeometry"
  },
  {
   "domain": null,
   "name": "attachment_id",
   "alias": "attachment_id",
   "type": "esriFieldTypeInteger"
  },
  {
   "domain": null,
   "name": "tpn_notification_id",
   "length": 1073741822,
   "alias": "tpn_notification_id",
   "type": "esriFieldTypeString"
  },
  {
   "domain": null,
   "name": "created_dt",
   "length": 8,
   "alias": "created_dt",
   "type": "esriFieldTypeDate"
  },
  {
   "domain": null,
   "name": "updated_dt",
   "length": 8,
   "alias": "updated_dt",
   "type": "esriFieldTypeDate"
  },
  {
   "domain": null,
   "name": "date_of_detection",
   "length": 8,
   "alias": "date_of_detection",
   "type": "esriFieldTypeDate"
  },
  {
   "domain": null,
   "name": "date_of_response",
   "length": 8,
   "alias": "date_of_response",
   "type": "esriFieldTypeDate"
  },
  {
   "domain": null,
   "name": "methane_emissions",
   "length": 100,
   "alias": "methane_emissions",
   "type": "esriFieldTypeString"
  },
  {
   "domain": null,
   "name": "notification_status",
   "length": 100,
   "alias": "notification_status",
   "type": "esriFieldTypeString"
  },
  {
   "domain": null,
   "name": "facility_id",
   "alias": "facility_id",
   "type": "esriFieldTypeInteger"
  },
  {
   "domain": null,
   "name": "facility_name",
   "length": 100,
   "alias": "facility_name",
   "type": "esriFieldTypeString"
  },
  {
   "domain": null,
   "name": "facility_state",
   "length": 50,
   "alias": "facility_state",
   "type": "esriFieldTypeString"
  },
  {
   "domain": null,
   "name": "facility_postal_code",
   "length": 50,
   "alias": "facility_postal_code",
   "type": "esriFieldTypeString"
  },
  {
   "domain": null,
   "name": "region_name",
   "length": 25,
   "alias": "region_name",
   "type": "esriFieldTypeString"
  },
  {
   "domain": null,
   "name": "st_area(shape)",
   "alias": "st_area(shape)",
   "type": "esriFieldTypeDouble"
  },
  {
   "domain": null,
   "name": "st_perimeter(shape)",
   "alias": "st_perimeter(shape)",
   "type": "esriFieldTypeDouble"
  }
 ],
 "allowAnalysis": true,
 "hasRasterAttributeTable": false,
 "useStandardizedQueries": true,
 "description": "",
 "pixelType": "U8",
 "meanPixelSize": 6.0000092342666118,
 "exportTilesAllowed": false,
 "editFieldsInfo": null,
 "rasterTypeInfos": [
  {
   "help": "",
   "name": "Raster Dataset",
   "description": "Supports all ArcGIS Raster Datasets"
  }
 ],
 "defaultResamplingMethod": "Bilinear",
 "itemAccess": false,
 "minScale": 0,
 "serviceProperties": "NorthWest<\/MosaicMethod>First<\/MosaicOperator>true<\/SortAscending><\/LockImageID>name<\/TileOrderField>0<\/TileOrderBase>600.000000<\/AvgImageSpacingX>300.000000<\/AvgImageSpacingY>0.0<\/ViewPointX>0.0<\/ViewPointY>0.0<\/ViewPointDefShiftX>0.0<\/ViewPointDefShiftY>JPEG<\/CompressionMethod>75<\/CompressionQuality>0.010000<\/CompressionTolerance>Bilinear<\/SamplingMethod><\/ImageServiceProperties><\/ImageServer>",
 "advancedQueryCapabilities": {
  "supportsStatistics": true,
  "supportsSqlExpression": true,
  "supportsOrderBy": true,
  "useStandardizedQueries": true,
  "supportsPagination": true,
  "supportsDistinct": true
 },
 "capabilities": "Catalog,Mensuration,Image,Metadata",
 "maxScale": 0,
 "stdvValues": [
  14.153918072862561,
  19.283924369726066,
  34.60727101359177,
  47.933356632861233
 ],
 "allowedFields": "name,minps,maxps,lowps,highps,tag,groupname,productname,centerx,centery,zorder,attachment_id,tpn_notification_id,created_dt,updated_dt,date_of_detection,date_of_response,methane_emissions,notification_status,facility_id,facility_name,facility_state,facility_postal_code,region_name,st_area(shape),st_perimeter(shape)",
 "minPixelSize": 0,
 "resampling": false,
 "noDataValues": [
  0,
  0,
  0,
  0
 ],
 "sortAscending": true,
 "maxMosaicImageCount": 20,
 "inspectionCapabilities": "",
 "maxPixelSize": 0,
 "noDataValue": 0,
 "allowedCompressions": "JPEG,None,LZ77,LERC",
 "uncompressedSize": 415408432,
 "serviceDescription": "OECA/msep_imagery",
 "allowCopy": true,
 "copyrightText": "",
 "mensurationCapabilities": "Basic",
 "ownershipBasedAccessControlForRasters": null
}
