<?xml version="1.0" encoding="UTF-8" standalone="no"?>
<metadata xml:lang="en">
<Esri>
<CreaDate>20251007</CreaDate>
<CreaTime>17074400</CreaTime>
<ArcGISFormat>1.0</ArcGISFormat>
<SyncOnce>FALSE</SyncOnce>
<DataProperties>
<itemProps>
<itemName Sync="TRUE">D:/Public/Data/OLEM_WTD/geoplatform-vdc-prod-s3bucket.acs/Kzell0p1_slr0p00m.tif</itemName>
<itemLocation>
<linkage Sync="TRUE">file:///vsis3/geoplatform-vdc-prod-s3bucket/OLEM_WTD_COGs/Kzell0p1_slr0p00m.tif</linkage>
<protocol Sync="TRUE">Local Area Network</protocol>
</itemLocation>
<nativeExtBox>
<westBL Sync="TRUE">-8677247.093869</westBL>
<eastBL Sync="TRUE">-7445927.093869</eastBL>
<southBL Sync="TRUE">4526931.510456</southBL>
<northBL Sync="TRUE">5706691.510456</northBL>
<exTypeCode Sync="TRUE">1</exTypeCode>
</nativeExtBox>
<imsContentType export="False"/>
</itemProps>
<coordRef>
<type Sync="TRUE">Projected</type>
<geogcsn Sync="TRUE">GCS_WGS_1984</geogcsn>
<csUnits Sync="TRUE">Linear Unit: Meter (1.000000)</csUnits>
<projcsn Sync="TRUE">WGS_1984_Web_Mercator_Auxiliary_Sphere</projcsn>
<peXml Sync="TRUE">&lt;ProjectedCoordinateSystem xsi:type='typens:ProjectedCoordinateSystem' xmlns:xsi='http://www.w3.org/2001/XMLSchema-instance' xmlns:xs='http://www.w3.org/2001/XMLSchema' xmlns:typens='http://www.esri.com/schemas/ArcGIS/3.3.0'&gt;&lt;WKT&gt;PROJCS[&amp;quot;WGS_1984_Web_Mercator_Auxiliary_Sphere&amp;quot;,GEOGCS[&amp;quot;GCS_WGS_1984&amp;quot;,DATUM[&amp;quot;D_WGS_1984&amp;quot;,SPHEROID[&amp;quot;WGS_1984&amp;quot;,6378137.0,298.257223563]],PRIMEM[&amp;quot;Greenwich&amp;quot;,0.0],UNIT[&amp;quot;Degree&amp;quot;,0.0174532925199433]],PROJECTION[&amp;quot;Mercator_Auxiliary_Sphere&amp;quot;],PARAMETER[&amp;quot;False_Easting&amp;quot;,0.0],PARAMETER[&amp;quot;False_Northing&amp;quot;,0.0],PARAMETER[&amp;quot;Central_Meridian&amp;quot;,0.0],PARAMETER[&amp;quot;Standard_Parallel_1&amp;quot;,0.0],PARAMETER[&amp;quot;Auxiliary_Sphere_Type&amp;quot;,0.0],UNIT[&amp;quot;Meter&amp;quot;,1.0],AUTHORITY[&amp;quot;EPSG&amp;quot;,3857]]&lt;/WKT&gt;&lt;XOrigin&gt;-20037700&lt;/XOrigin&gt;&lt;YOrigin&gt;-30241100&lt;/YOrigin&gt;&lt;XYScale&gt;148923141.92838538&lt;/XYScale&gt;&lt;ZOrigin&gt;-100000&lt;/ZOrigin&gt;&lt;ZScale&gt;10000&lt;/ZScale&gt;&lt;MOrigin&gt;-100000&lt;/MOrigin&gt;&lt;MScale&gt;10000&lt;/MScale&gt;&lt;XYTolerance&gt;0.001&lt;/XYTolerance&gt;&lt;ZTolerance&gt;0.001&lt;/ZTolerance&gt;&lt;MTolerance&gt;0.001&lt;/MTolerance&gt;&lt;HighPrecision&gt;true&lt;/HighPrecision&gt;&lt;WKID&gt;102100&lt;/WKID&gt;&lt;LatestWKID&gt;3857&lt;/LatestWKID&gt;&lt;/ProjectedCoordinateSystem&gt;</peXml>
</coordRef>
<RasterProperties>
<General>
<PixelDepth Sync="TRUE">16</PixelDepth>
<HasColormap Sync="TRUE">FALSE</HasColormap>
<CompressionType Sync="TRUE">DEFLATE</CompressionType>
<NumBands Sync="TRUE">1</NumBands>
<Format Sync="TRUE">TIFF</Format>
<HasPyramids Sync="TRUE">TRUE</HasPyramids>
<SourceType Sync="TRUE">continuous</SourceType>
<PixelType Sync="TRUE">signed integer</PixelType>
<NoDataValue Sync="TRUE">32767</NoDataValue>
</General>
</RasterProperties>
<lineage>
<Process Date="20251007" Name="" Time="170744" ToolSource="d:\public\server\apps\arcgis\pro\Resources\ArcToolbox\toolboxes\Data Management Tools.tbx\MosaicToNewRaster" export="">MosaicToNewRaster D:\Public\Data\OLEM_WTD\WTD_TIFS\Kzell0p1_slr0p00m16bit\ct_Kzell0p1_slr0p00m.tif;D:\Public\Data\OLEM_WTD\WTD_TIFS\Kzell0p1_slr0p00m16bit\de_Kzell0p1_slr0p00m.tif;D:\Public\Data\OLEM_WTD\WTD_TIFS\Kzell0p1_slr0p00m16bit\ma_Kzell0p1_slr0p00m.tif;D:\Public\Data\OLEM_WTD\WTD_TIFS\Kzell0p1_slr0p00m16bit\md_dc_Kzell0p1_slr0p00m.tif;D:\Public\Data\OLEM_WTD\WTD_TIFS\Kzell0p1_slr0p00m16bit\me_Kzell0p1_slr0p00m.tif;D:\Public\Data\OLEM_WTD\WTD_TIFS\Kzell0p1_slr0p00m16bit\nh_Kzell0p1_slr0p00m.tif;D:\Public\Data\OLEM_WTD\WTD_TIFS\Kzell0p1_slr0p00m16bit\nj_Kzell0p1_slr0p00m.tif;D:\Public\Data\OLEM_WTD\WTD_TIFS\Kzell0p1_slr0p00m16bit\ny_Kzell0p1_slr0p00m.tif;D:\Public\Data\OLEM_WTD\WTD_TIFS\Kzell0p1_slr0p00m16bit\pa_Kzell0p1_slr0p00m.tif;D:\Public\Data\OLEM_WTD\WTD_TIFS\Kzell0p1_slr0p00m16bit\ri_Kzell0p1_slr0p00m.tif;D:\Public\Data\OLEM_WTD\WTD_TIFS\Kzell0p1_slr0p00m16bit\va_Kzell0p1_slr0p00m.tif D:\Public\Data\OLEM_WTD\WTD_TIFS\Kzell0p1_slr0p00mMos Kzell0p1_slr0p00m.tif PROJCS["WGS_1984_Web_Mercator_Auxiliary_Sphere",GEOGCS["GCS_WGS_1984",DATUM["D_WGS_1984",SPHEROID["WGS_1984",6378137.0,298.257223563]],PRIMEM["Greenwich",0.0],UNIT["Degree",0.0174532925199433]],PROJECTION["Mercator_Auxiliary_Sphere"],PARAMETER["False_Easting",0.0],PARAMETER["False_Northing",0.0],PARAMETER["Central_Meridian",0.0],PARAMETER["Standard_Parallel_1",0.0],PARAMETER["Auxiliary_Sphere_Type",0.0],UNIT["Meter",1.0]] "16 bit signed" 10 1 Last First</Process>
<Process Date="20251209" Name="" Time="121046" ToolSource="d:\public\server\apps\arcgis\pro\Resources\ArcToolbox\Toolboxes\Data Management Tools.tbx\Rename" export="">Rename D:\Public\Data\OLEM_WTD\geoplatform-vdc-prod-s3bucket.acs\Kzell01p_slr0p00m.tif D:\Public\Data\OLEM_WTD\geoplatform-vdc-prod-s3bucket.acs\Kzell0p1_slr0p00m.tif RasterDataset</Process>
</lineage>
</DataProperties>
<SyncDate>20251209</SyncDate>
<SyncTime>17411700</SyncTime>
<ModDate>20251209</ModDate>
<ModTime>17571800</ModTime>
<ArcGISProfile>NAP</ArcGISProfile>
<scaleRange>
<minScale>150000000</minScale>
<maxScale>5000</maxScale>
</scaleRange>
</Esri>
<mdFileID>B150B2F1-3335-4E40-8567-CD406A385061</mdFileID>
<mdLang>
<languageCode value="eng"/>
<countryCode Sync="TRUE" value="USA"/>
</mdLang>
<mdChar>
<CharSetCd value="004"/>
</mdChar>
<mdHrLv>
<ScopeCd value="005"/>
</mdHrLv>
<mdContact>
<rpIndName>Meridith Fry, Ph.D.</rpIndName>
<rpOrgName>U.S. Environmental Protection Agency, Center for Public Health and Environmental Assessment</rpOrgName>
<rpCntInfo>
<cntPhone>
<voiceNum tddtty="">202-564-5129</voiceNum>
</cntPhone>
<cntAddress addressType="both">
<delPoint>1200 Pennsylvania Ave NW, MC 8623R</delPoint>
<city>Washington DC</city>
<adminArea>DC</adminArea>
<postCode>20460</postCode>
<country>US</country>
<eMailAdd>fry.meridith@epa.gov</eMailAdd>
</cntAddress>
</rpCntInfo>
<role>
<RoleCd value="007"/>
</role>
</mdContact>
<mdDateSt Sync="FALSE">20251204</mdDateSt>
<mdStanName>ArcGIS Metadata</mdStanName>
<mdStanVer>1.0</mdStanVer>
<distInfo>
<distributor>
<distorCont>
<rpOrgName>U.S. Environmental Protection Agency, Center for Public Health and Environmental Assessment</rpOrgName>
<rpCntInfo>
<cntPhone>
<voiceNum tddtty="">202-564-5129</voiceNum>
</cntPhone>
<cntAddress addressType="both">
<delPoint>1200 Pennsylvania Ave NW, MC 8623R</delPoint>
<city>Washington DC</city>
<adminArea>DC</adminArea>
<postCode>20460</postCode>
<country>US</country>
<eMailAdd>fry.meridith@epa.gov</eMailAdd>
</cntAddress>
</rpCntInfo>
<role>
<RoleCd value="005"/>
</role>
</distorCont>
<distorFormat>
<formatName>Image service</formatName>
<formatVer>11.3</formatVer>
<formatSpec>Image services created from mosaicked TIFs.</formatSpec>
<formatInfo>Each image service displays a class for the SLR with hydraulic conductivity multipliers of 0.1, 1, or 10.</formatInfo>
</distorFormat>
<distorTran>
<onLineSrc>
<linkage>https://geopub.epa.gov/ArcGIS/rest/services/OLEM_WTD</linkage>
<orDesc>Each image service displays a class for the SLR with hydraulic conductivity multipliers of 0.1, 1, or 10.</orDesc>
<orFunct>
<OnFunctCd value="002"/>
</orFunct>
</onLineSrc>
</distorTran>
</distributor>
<distFormat>
<formatName Sync="TRUE">Raster Dataset</formatName>
</distFormat>
</distInfo>
<dataIdInfo>
<idCitation>
<resTitle>Kzell0p1_slr0p00m</resTitle>
<date>
<pubDate>2025-12-04T00:00:00</pubDate>
</date>
<citRespParty>
<rpOrgName>Kevin M. Befus</rpOrgName>
<role>
<RoleCd value="006"/>
</role>
</citRespParty>
<citRespParty>
<rpOrgName>U.S. Environmental Protection Agency</rpOrgName>
<rpCntInfo>
<cntAddress addressType="">
<delPoint>Center for Public Health and Environmental Assessment</delPoint>
</cntAddress>
</rpCntInfo>
<role>
<RoleCd value="010"/>
</role>
</citRespParty>
<presForm>
<fgdcGeoform>raster digital data</fgdcGeoform>
<PresFormCd value="003"/>
</presForm>
<datasetSeries>
<seriesName>Water table depths for different scenarios.</seriesName>
</datasetSeries>
<collTitle>Future coastal groundwater hazards along the U.S. North Eastern coasts</collTitle>
</idCitation>
<idAbs>&lt;div style='text-align:Left;'&gt;&lt;div&gt;&lt;div&gt;&lt;p&gt;&lt;a href='https://edg.epa.gov/data.gov/B150B2F1-3335-4E40-8567-CD406A385061' style='text-decoration:underline;'&gt;&lt;span&gt;Full Metadata&lt;/span&gt;&lt;/a&gt;&lt;span&gt;. Groundwater emergence and shoaling extents are derived from water table depth GeoTIFFs, which are calculated as steady-state groundwater model heads subtracted from high-resolution topographic digital elevation model (DEM) land surface elevations. Results are provided as image services of water table depth in specific depth ranges (lt 0 m, 0 m, 1 m, 2 m, 3-5 m, gt 5 m). This image service depicts results for binned water table depths for the scenario using a K value of Kzell0p1 and a sea level of slr0p00m above Mean Highest High Water (MHHW).&lt;/span&gt;&lt;/p&gt;&lt;/div&gt;&lt;/div&gt;&lt;/div&gt;</idAbs>
<idStatus>
<ProgCd value="001"/>
</idStatus>
<idPoC>
<rpIndName>Meridith Fry, Ph.D.</rpIndName>
<rpOrgName>U.S. Environmental Protection Agency, Center for Public Health and Environmental Assessment</rpOrgName>
<rpCntInfo>
<cntPhone>
<voiceNum tddtty="">202-564-5129</voiceNum>
</cntPhone>
<cntAddress addressType="both">
<delPoint>1200 Pennsylvania Ave NW, MC 8623R</delPoint>
<city>Washington DC</city>
<adminArea>DC</adminArea>
<postCode>20460</postCode>
<country>US</country>
<eMailAdd>fry.meridith@epa.gov</eMailAdd>
</cntAddress>
</rpCntInfo>
<role>
<RoleCd value="010">Publisher</RoleCd>
</role>
</idPoC>
<resMaint>
<maintFreq>
<MaintFreqCd value="011"/>
</maintFreq>
</resMaint>
<themeKeys>
<thesaName>
<resTitle>Data Categories for Marine Planning</resTitle>
<date>
<pubDate>2025-12-04T00:00:00</pubDate>
</date>
</thesaName>
<keyword>Physical Habitats and Geomorphology</keyword>
</themeKeys>
<themeKeys>
<thesaName>
<resTitle>Global Change Master Directory (GCMD)</resTitle>
<date>
<pubDate>2025-12-04T00:00:00</pubDate>
</date>
</thesaName>
<keyword>Hazards Planning</keyword>
<keyword>Beaches</keyword>
<keyword>Sea Level Rise</keyword>
<keyword>Floods</keyword>
<keyword>Water Depth</keyword>
</themeKeys>
<themeKeys>
<thesaName>
<resTitle>USGS Thesaurus</resTitle>
<date>
<pubDate>2025-12-04T00:00:00</pubDate>
</date>
</thesaName>
<keyword>Climate Change</keyword>
<keyword>Floods</keyword>
<keyword>Groundwater Flow</keyword>
<keyword>Sea-level Change</keyword>
<keyword>mathematical modeling</keyword>
<keyword>effects of climate change</keyword>
<keyword>earth sciences</keyword>
</themeKeys>
<themeKeys>
<thesaName>
<resTitle>Marine Realms Information Bank (MRIB) keywords</resTitle>
<date>
<pubDate>2025-12-04T00:00:00</pubDate>
</date>
</thesaName>
<keyword>sea level change</keyword>
<keyword>floods</keyword>
</themeKeys>
<resConst>
<Consts>
<useLimit>&lt;div style='text-align:Left;'&gt;&lt;div&gt;&lt;div&gt;&lt;p&gt;&lt;span&gt;EPA-authored or produced data and information are in the public domain from the U.S. Government and are freely redistributable with proper metadata and source attribution. Please recognize and acknowledge the U.S. Environmental Protection Agency and Kevin Befus as the originators of the dataset and in products derived from these data. This information is not intended for navigation purposes.&lt;/span&gt;&lt;/p&gt;&lt;/div&gt;&lt;/div&gt;&lt;/div&gt;</useLimit>
</Consts>
</resConst>
<resConst>
<LegConsts>
<useLimit>Unless otherwise stated, all data, metadata and related materials are considered to satisfy the quality standards relative to the purpose for which the data were collected. Although these data and associated metadata have been reviewed for accuracy and completeness and approved for release by the U.S. Environmental Protection Agency (EPA), no warranty expressed or implied is made regarding the display or utility of the data on any other system or for general or scientific purposes, nor shall the act of distribution constitute any such warranty.</useLimit>
</LegConsts>
</resConst>
<aggrInfo>
<aggrDSName>
<resTitle>Future coastal groundwater hazards along the U.S. North Eastern coasts</resTitle>
<date>
<pubDate>2025-01-01T00:00:00</pubDate>
</date>
<citRespParty>
<rpOrgName>U.S. Environmental Protection Agency</rpOrgName>
<rpCntInfo>
<cntAddress addressType="">
<delPoint>Center for Public Health and Environmental Assessment</delPoint>
</cntAddress>
</rpCntInfo>
<role>
<RoleCd value="010"/>
</role>
</citRespParty>
<datasetSeries>
<seriesName>data release</seriesName>
</datasetSeries>
</aggrDSName>
<assocType>
<AscTypeCd value="002"/>
</assocType>
</aggrInfo>
<spatRpType>
<SpatRepTypCd value="002"/>
</spatRpType>
<dataExt>
<geoEle>
<GeoBndBox>
<exTypeCode>true</exTypeCode>
<westBL>-77.636105</westBL>
<eastBL>-69.949024</eastBL>
<northBL>45.296173</northBL>
<southBL>37.847600</southBL>
</GeoBndBox>
</geoEle>
</dataExt>
<dataExt>
<exDesc>oldest dataset used through year of publication</exDesc>
<tempEle>
<TempExtent>
<exTemp>
<TM_Period>
<tmBegin>2015-01-01T00:00:00</tmBegin>
<tmEnd>2025-01-01T00:00:00</tmEnd>
</TM_Period>
</exTemp>
</TempExtent>
</tempEle>
</dataExt>
<suppInfo>Projections for future sea-level rise provide emergency responders and coastal planners with critical hazards information that can be used to increase public safety, mitigate physical damages, and more effectively manage and allocate resources within complex coastal settings. These data are intended for policy makers, resource managers, science researchers, students, and the general public. These data can be used with geographic information systems or other software to identify and assess possible areas of vulnerability. These data are not intended to be used for navigation. This data release was funded by EPA. Any use of trade, product, or firm names is for descriptive purposes only and does not imply endorsement by the U.S. Government.</suppInfo>
<themeKeys>
<thesaLang>
<languageCode value="eng"/>
<countryCode value="US"/>
</thesaLang>
<thesaName>
<resTitle>EPA GIS Keyword Thesaurus</resTitle>
<date>
<pubDate>2007-11-02T00:00:00</pubDate>
</date>
<citOnlineRes>
<linkage>https://www.epa.gov/geospatial/epa-metadata-technical-specification</linkage>
<orFunct>
<OnFunctCd value="002"/>
</orFunct>
<orName>EPA Metadata Technical Specification</orName>
</citOnlineRes>
</thesaName>
<keyword>Environment</keyword>
<keyword>Ground Water</keyword>
<keyword>Water</keyword>
</themeKeys>
<themeKeys>
<thesaLang>
<languageCode value="eng"/>
<countryCode value="US"/>
</thesaLang>
<thesaName>
<resTitle>Federal Program Inventory</resTitle>
<date>
<pubDate>2013-09-16</pubDate>
</date>
<citOnlineRes>
<linkage>https://www.performance.gov/federalprograminventory</linkage>
<orFunct>
<OnFunctCd value="002"/>
</orFunct>
<orName>Federal Program Inventory</orName>
</citOnlineRes>
</thesaName>
<keyword>020:072</keyword>
</themeKeys>
<dataLang>
<languageCode value="eng"/>
<countryCode Sync="TRUE" value="USA"/>
</dataLang>
<dataChar>
<CharSetCd value="004"/>
</dataChar>
<searchKeys>
<keyword>Geoscientific</keyword>
<keyword>Inland Waters</keyword>
<keyword>Oceans</keyword>
<keyword>United States</keyword>
<keyword>Physical Habitats and Geomorphology</keyword>
<keyword>Hazards Planning</keyword>
<keyword>Beaches</keyword>
<keyword>Sea Level Rise</keyword>
<keyword>Floods</keyword>
<keyword>Water Depth</keyword>
<keyword>Climate Change</keyword>
<keyword>Groundwater Flow</keyword>
<keyword>Sea-level Change</keyword>
<keyword>mathematical modeling</keyword>
<keyword>effects of climate change</keyword>
<keyword>earth sciences</keyword>
<keyword>sea level change</keyword>
<keyword>floods</keyword>
<keyword>Environment</keyword>
<keyword>Ground Water</keyword>
<keyword>Water</keyword>
<keyword>IT / Data Management (Science and Technology</keyword>
<keyword>Environmental Programs and Management</keyword>
<keyword>Superfund</keyword>
<keyword>Leaking Underground Storage Tanks)</keyword>
</searchKeys>
<idCredit>USEPA</idCredit>
<placeKeys>
<keyword>United States, Maine, New Hampshire, Massachusetts, Rhode Island, Connecticut, New York, New Jersey, Pennsylvania, Delaware, Maryland, Virginia, Washington DC</keyword>
</placeKeys>
<idPurp>This series of image services display water table depth for various sea level rise scenarios and hydraulic conductivity multipliers of 0.1, 1, or 10.</idPurp>
<envirDesc Sync="TRUE">Microsoft Windows Server 2016 Technical Preview Version 10.0 (Build 17763) ; Esri ArcGIS 13.3.0.52636</envirDesc>
<dataExt>
<geoEle>
<GeoBndBox esriExtentType="search">
<exTypeCode Sync="TRUE">1</exTypeCode>
<westBL Sync="TRUE">-77.949037</westBL>
<eastBL Sync="TRUE">-66.887901</eastBL>
<northBL Sync="TRUE">45.538450</northBL>
<southBL Sync="TRUE">37.627462</southBL>
</GeoBndBox>
</geoEle>
</dataExt>
<tpCat>
<TopicCatCd value="008"/>
</tpCat>
<tpCat>
<TopicCatCd value="012"/>
</tpCat>
<tpCat>
<TopicCatCd value="014"/>
</tpCat>
</dataIdInfo>
<mdMaint>
<maintFreq>
<MaintFreqCd value="011"/>
</maintFreq>
</mdMaint>
<mdConst>
<SecConsts>
<class>
<ClasscationCd value="001"/>
</class>
<useLimit>EPA Public Domain License
https://edg.epa.gov/EPA_Data_License.html</useLimit>
</SecConsts>
</mdConst>
<dqInfo>
<dqScope>
<scpLvl>
<ScopeCd value="005"/>
</scpLvl>
</dqScope>
<report dimension="" type="DQQuanAttAcc">
<measDesc>Attribute values are model-derived water table depths for present-day and future sea-level rise conditions. The model uses parameters from calibrated and published groundwater models and is intended to show the general response of the shallow coastal water table to sea-level rise. Water table depths are calculated relative to the best-available ground surface elevations from available digital elevation models (DEMs), but DEM inaccuracies introduce additional uncertainty into calculated water table depths. Projected water tables for future sea-level rise conditions cannot be validated against observations.</measDesc>
</report>
<report dimension="" type="DQConcConsis">
<measDesc>Data have undergone quality checks and meet standards.</measDesc>
</report>
<report dimension="" type="DQCompOm">
<measDesc>Dataset is considered complete for the information presented. Users are advised to read the metadata record carefully for additional details.</measDesc>
</report>
<report dimension="horizontal" type="DQAbsExtPosAcc">
<measDesc>Data are concurrent with topographic digital elevation model (DEM) locations.</measDesc>
</report>
<report dimension="vertical" type="DQAbsExtPosAcc">
<measDesc>Model-derived head elevations are accurate within the limitations of the model. The model uses parameters from calibrated, published groundwater models, but limitations due to model resolution and uncertainty in model parameter values may significantly affect modeled head elevations. For water table depths, modeled heads are subtracted from land surface elevations from the best available digital elevation models (DEMs). DEM inaccuracy will introduce additional uncertainty into water table depth results. As a result, water table depth results are intended to show only the general response of the shallow coastal water table to sea-level rise.</measDesc>
</report>
<dataLineage>
<statement>Individual water table depth TIFs by state were mosaicked together for each scenario, then published as image services. The image services include SLR scenarios with hydraulic conductivity multipliers of 0.1, 1, and 10.</statement>
</dataLineage>
</dqInfo>
<eainfo>
<detailed>
<enttyp>
<enttypl>projected water table depths</enttypl>
<enttypd>Raster of projected water table depths for the SLR and K case specified.</enttypd>
<enttypds>Kevin Befus</enttypds>
</enttyp>
<attr>
<attrlabl>Scenario</attrlabl>
<attrdef>Hydraulic conductivity (Kzell in m/day) and sea level rise scenario (m above ~2020 MHHW)</attrdef>
<attrdefs>producer defined</attrdefs>
<attrdomv>
<edom>
<edomv>Kzell0p1_slr0p00m_10m_wtbins</edomv>
<edomvd>Results for binned water table depths for the scenario using a K value of Kzell0p1 and a sea level of slr0p00m above MHHW.</edomvd>
<edomvds>producer defined</edomvds>
</edom>
</attrdomv>
</attr>
</detailed>
</eainfo>
<mdHrLvName Sync="TRUE">dataset</mdHrLvName>
<refSysInfo>
<RefSystem>
<refSysID>
<identCode Sync="TRUE" code="3857"/>
<idCodeSpace Sync="TRUE">EPSG</idCodeSpace>
<idVersion Sync="TRUE">6.18.3(9.3.1.2)</idVersion>
</refSysID>
</RefSystem>
</refSysInfo>
<spatRepInfo>
<Georect>
<cellGeo>
<CellGeoCd Sync="TRUE" value="002"/>
</cellGeo>
<numDims Sync="TRUE">2</numDims>
<tranParaAv Sync="TRUE">1</tranParaAv>
<chkPtAv Sync="TRUE">0</chkPtAv>
<cornerPts>
<pos Sync="TRUE">-8677247.093869 4526931.510456</pos>
</cornerPts>
<cornerPts>
<pos Sync="TRUE">-8677247.093869 5706691.510456</pos>
</cornerPts>
<cornerPts>
<pos Sync="TRUE">-7445927.093869 5706691.510456</pos>
</cornerPts>
<cornerPts>
<pos Sync="TRUE">-7445927.093869 4526931.510456</pos>
</cornerPts>
<centerPt>
<pos Sync="TRUE">-8061587.093869 5116811.510456</pos>
</centerPt>
<axisDimension type="002">
<dimSize Sync="TRUE">123132</dimSize>
<dimResol>
<value Sync="TRUE" uom="m">10.000000</value>
</dimResol>
</axisDimension>
<axisDimension type="001">
<dimSize Sync="TRUE">117976</dimSize>
<dimResol>
<value Sync="TRUE" uom="m">10.000000</value>
</dimResol>
</axisDimension>
<ptInPixel>
<PixOrientCd Sync="TRUE" value="001"/>
</ptInPixel>
</Georect>
</spatRepInfo>
<contInfo>
<ImgDesc>
<contentTyp>
<ContentTypCd Sync="TRUE" value="001"/>
</contentTyp>
<covDim>
<Band>
<dimDescrp Sync="TRUE">Band_1</dimDescrp>
<maxVal Sync="TRUE">152.000000</maxVal>
<minVal Sync="TRUE">-132.000000</minVal>
<bitsPerVal Sync="TRUE">16</bitsPerVal>
<valUnit>
<UOM type="length"/>
</valUnit>
</Band>
</covDim>
</ImgDesc>
</contInfo>
</metadata>
