<?xml version="1.0" encoding="UTF-8" standalone="no"?>
<metadata xml:lang="en">
<Esri>
<CreaDate>20251014</CreaDate>
<CreaTime>16214100</CreaTime>
<ArcGISFormat>1.0</ArcGISFormat>
<SyncOnce>FALSE</SyncOnce>
<DataProperties>
<itemProps>
<itemName Sync="TRUE">Kzell1_slr1p00m.tif</itemName>
<itemLocation>
<linkage Sync="TRUE">file://D:\Public\Data\OLEM_WTD\WTD_TIFS\Mosaics\Kzell1_slr1p00m.tif</linkage>
<protocol Sync="TRUE">Local Area Network</protocol>
</itemLocation>
<imsContentType Sync="TRUE">002</imsContentType>
<nativeExtBox>
<westBL Sync="TRUE">-8645011.333202</westBL>
<eastBL Sync="TRUE">-7445921.333202</eastBL>
<southBL Sync="TRUE">4553952.772384</southBL>
<northBL Sync="TRUE">5694772.772384</northBL>
<exTypeCode Sync="TRUE">1</exTypeCode>
</nativeExtBox>
</itemProps>
<coordRef>
<type Sync="TRUE">Projected</type>
<geogcsn Sync="TRUE">GCS_WGS_1984</geogcsn>
<csUnits Sync="TRUE">Linear Unit: Meter (1.000000)</csUnits>
<projcsn Sync="TRUE">WGS_1984_Web_Mercator_Auxiliary_Sphere</projcsn>
<peXml Sync="TRUE">&lt;ProjectedCoordinateSystem xsi:type='typens:ProjectedCoordinateSystem' xmlns:xsi='http://www.w3.org/2001/XMLSchema-instance' xmlns:xs='http://www.w3.org/2001/XMLSchema' xmlns:typens='http://www.esri.com/schemas/ArcGIS/3.3.0'&gt;&lt;WKT&gt;PROJCS[&amp;quot;WGS_1984_Web_Mercator_Auxiliary_Sphere&amp;quot;,GEOGCS[&amp;quot;GCS_WGS_1984&amp;quot;,DATUM[&amp;quot;D_WGS_1984&amp;quot;,SPHEROID[&amp;quot;WGS_1984&amp;quot;,6378137.0,298.257223563]],PRIMEM[&amp;quot;Greenwich&amp;quot;,0.0],UNIT[&amp;quot;Degree&amp;quot;,0.0174532925199433]],PROJECTION[&amp;quot;Mercator_Auxiliary_Sphere&amp;quot;],PARAMETER[&amp;quot;False_Easting&amp;quot;,0.0],PARAMETER[&amp;quot;False_Northing&amp;quot;,0.0],PARAMETER[&amp;quot;Central_Meridian&amp;quot;,0.0],PARAMETER[&amp;quot;Standard_Parallel_1&amp;quot;,0.0],PARAMETER[&amp;quot;Auxiliary_Sphere_Type&amp;quot;,0.0],UNIT[&amp;quot;Meter&amp;quot;,1.0],AUTHORITY[&amp;quot;EPSG&amp;quot;,3857]]&lt;/WKT&gt;&lt;XOrigin&gt;-20037700&lt;/XOrigin&gt;&lt;YOrigin&gt;-30241100&lt;/YOrigin&gt;&lt;XYScale&gt;148923141.92838538&lt;/XYScale&gt;&lt;ZOrigin&gt;-100000&lt;/ZOrigin&gt;&lt;ZScale&gt;10000&lt;/ZScale&gt;&lt;MOrigin&gt;-100000&lt;/MOrigin&gt;&lt;MScale&gt;10000&lt;/MScale&gt;&lt;XYTolerance&gt;0.001&lt;/XYTolerance&gt;&lt;ZTolerance&gt;0.001&lt;/ZTolerance&gt;&lt;MTolerance&gt;0.001&lt;/MTolerance&gt;&lt;HighPrecision&gt;true&lt;/HighPrecision&gt;&lt;WKID&gt;102100&lt;/WKID&gt;&lt;LatestWKID&gt;3857&lt;/LatestWKID&gt;&lt;/ProjectedCoordinateSystem&gt;</peXml>
</coordRef>
<RasterProperties>
<General>
<PixelDepth Sync="TRUE">16</PixelDepth>
<HasColormap Sync="TRUE">FALSE</HasColormap>
<CompressionType Sync="TRUE">LZW</CompressionType>
<NumBands Sync="TRUE">1</NumBands>
<Format Sync="TRUE">TIFF</Format>
<HasPyramids Sync="TRUE">TRUE</HasPyramids>
<SourceType Sync="TRUE">continuous</SourceType>
<PixelType Sync="TRUE">signed integer</PixelType>
<NoDataValue Sync="TRUE">32767</NoDataValue>
</General>
</RasterProperties>
<lineage>
<Process Date="20251014" Name="" Time="162142" ToolSource="d:\public\server\apps\arcgis\pro\Resources\ArcToolbox\toolboxes\Data Management Tools.tbx\MosaicToNewRaster" export="">MosaicToNewRaster D:\Public\Data\OLEM_WTD\WTD_TIFS\Kzell1_slr1p00m16bit\ct_Kzell1_slr1p00m.tif;D:\Public\Data\OLEM_WTD\WTD_TIFS\Kzell1_slr1p00m16bit\de_Kzell1_slr1p00m.tif;D:\Public\Data\OLEM_WTD\WTD_TIFS\Kzell1_slr1p00m16bit\ma_Kzell1_slr1p00m.tif;D:\Public\Data\OLEM_WTD\WTD_TIFS\Kzell1_slr1p00m16bit\md_dc_Kzell1_slr1p00m.tif;D:\Public\Data\OLEM_WTD\WTD_TIFS\Kzell1_slr1p00m16bit\me_Kzell1_slr1p00m.tif;D:\Public\Data\OLEM_WTD\WTD_TIFS\Kzell1_slr1p00m16bit\nh_Kzell1_slr1p00m.tif;D:\Public\Data\OLEM_WTD\WTD_TIFS\Kzell1_slr1p00m16bit\nj_Kzell1_slr1p00m.tif;D:\Public\Data\OLEM_WTD\WTD_TIFS\Kzell1_slr1p00m16bit\ny_Kzell1_slr1p00m.tif;D:\Public\Data\OLEM_WTD\WTD_TIFS\Kzell1_slr1p00m16bit\pa_Kzell1_slr1p00m.tif;D:\Public\Data\OLEM_WTD\WTD_TIFS\Kzell1_slr1p00m16bit\ri_Kzell1_slr1p00m.tif;D:\Public\Data\OLEM_WTD\WTD_TIFS\Kzell1_slr1p00m16bit\va_Kzell1_slr1p00m.tif D:\Public\Data\OLEM_WTD\WTD_TIFS\Mosaics Kzell1_slr1p00m.tif PROJCS["WGS_1984_Web_Mercator_Auxiliary_Sphere",GEOGCS["GCS_WGS_1984",DATUM["D_WGS_1984",SPHEROID["WGS_1984",6378137.0,298.257223563]],PRIMEM["Greenwich",0.0],UNIT["Degree",0.0174532925199433]],PROJECTION["Mercator_Auxiliary_Sphere"],PARAMETER["False_Easting",0.0],PARAMETER["False_Northing",0.0],PARAMETER["Central_Meridian",0.0],PARAMETER["Standard_Parallel_1",0.0],PARAMETER["Auxiliary_Sphere_Type",0.0],UNIT["Meter",1.0]] "16 bit signed" 10 1 Last First</Process>
</lineage>
</DataProperties>
<SyncDate>20251014</SyncDate>
<SyncTime>16214100</SyncTime>
<ModDate>20251209</ModDate>
<ModTime>18032100</ModTime>
<scaleRange>
<minScale>150000000</minScale>
<maxScale>5000</maxScale>
</scaleRange>
<ArcGISProfile>NAP</ArcGISProfile>
</Esri>
<dataIdInfo>
<envirDesc Sync="TRUE">Microsoft Windows Server 2016 Technical Preview Version 10.0 (Build 17763) ; Esri ArcGIS 13.3.0.52636</envirDesc>
<dataLang>
<languageCode Sync="TRUE" value="eng"/>
<countryCode Sync="TRUE" value="USA"/>
</dataLang>
<idCitation>
<resTitle Sync="TRUE">Kzell1_slr1p00m</resTitle>
<presForm>
<PresFormCd Sync="TRUE" value="005"/>
</presForm>
</idCitation>
<spatRpType>
<SpatRepTypCd Sync="TRUE" value="002"/>
</spatRpType>
<dataExt>
<geoEle>
<GeoBndBox esriExtentType="search">
<exTypeCode Sync="TRUE">1</exTypeCode>
<westBL Sync="TRUE">-77.659458</westBL>
<eastBL Sync="TRUE">-66.887849</eastBL>
<northBL Sync="TRUE">45.463406</northBL>
<southBL Sync="TRUE">37.819459</southBL>
</GeoBndBox>
</geoEle>
</dataExt>
<idAbs>&lt;div style='text-align:Left;'&gt;&lt;div&gt;&lt;div&gt;&lt;p&gt;&lt;a href='https://edg.epa.gov/data.gov/B150B2F1-3335-4E40-8567-CD406A385061' style='text-decoration:underline;'&gt;&lt;span&gt;Full Metadata&lt;/span&gt;&lt;/a&gt;&lt;span&gt;. Groundwater emergence and shoaling extents are derived from water table depth GeoTIFFs, which are calculated as steady-state groundwater model heads subtracted from high-resolution topographic digital elevation model (DEM) land surface elevations. Results are provided as image services of water table depth in specific depth ranges (lt 0 m, 0 m, 1 m, 2 m, 3-5 m, gt 5 m). This image service depicts results for binned water table depths for the scenario using a K value of Kzell1 and a sea level of slr1p00m above Mean Highest High Water (MHHW).&lt;/span&gt;&lt;/p&gt;&lt;/div&gt;&lt;/div&gt;&lt;/div&gt;</idAbs>
<idCredit>USEPA</idCredit>
<idPurp/>
<resConst>
<Consts>
<useLimit/>
</Consts>
</resConst>
</dataIdInfo>
<mdLang>
<languageCode Sync="TRUE" value="eng"/>
<countryCode Sync="TRUE" value="USA"/>
</mdLang>
<mdChar>
<CharSetCd Sync="TRUE" value="004"/>
</mdChar>
<distInfo>
<distFormat>
<formatName Sync="TRUE">Raster Dataset</formatName>
</distFormat>
</distInfo>
<mdHrLv>
<ScopeCd Sync="TRUE" value="005"/>
</mdHrLv>
<mdHrLvName Sync="TRUE">dataset</mdHrLvName>
<refSysInfo>
<RefSystem>
<refSysID>
<identCode Sync="TRUE" code="3857"/>
<idCodeSpace Sync="TRUE">EPSG</idCodeSpace>
<idVersion Sync="TRUE">6.18.3(9.3.1.2)</idVersion>
</refSysID>
</RefSystem>
</refSysInfo>
<spatRepInfo>
<Georect>
<cellGeo>
<CellGeoCd Sync="TRUE" value="002"/>
</cellGeo>
<numDims Sync="TRUE">2</numDims>
<tranParaAv Sync="TRUE">1</tranParaAv>
<chkPtAv Sync="TRUE">0</chkPtAv>
<cornerPts>
<pos Sync="TRUE">-8645011.333202 4553952.772384</pos>
</cornerPts>
<cornerPts>
<pos Sync="TRUE">-8645011.333202 5694772.772384</pos>
</cornerPts>
<cornerPts>
<pos Sync="TRUE">-7445921.333202 5694772.772384</pos>
</cornerPts>
<cornerPts>
<pos Sync="TRUE">-7445921.333202 4553952.772384</pos>
</cornerPts>
<centerPt>
<pos Sync="TRUE">-8045466.333202 5124362.772384</pos>
</centerPt>
<axisDimension type="002">
<dimSize Sync="TRUE">119909</dimSize>
<dimResol>
<value Sync="TRUE" uom="m">10.000000</value>
</dimResol>
</axisDimension>
<axisDimension type="001">
<dimSize Sync="TRUE">114082</dimSize>
<dimResol>
<value Sync="TRUE" uom="m">10.000000</value>
</dimResol>
</axisDimension>
<ptInPixel>
<PixOrientCd Sync="TRUE" value="001"/>
</ptInPixel>
</Georect>
</spatRepInfo>
<contInfo>
<ImgDesc>
<contentTyp>
<ContentTypCd Sync="TRUE" value="001"/>
</contentTyp>
<covDim>
<Band>
<dimDescrp Sync="TRUE">Band_1</dimDescrp>
<maxVal Sync="TRUE">159.000000</maxVal>
<minVal Sync="TRUE">-122.000000</minVal>
<bitsPerVal Sync="TRUE">16</bitsPerVal>
<valUnit>
<UOM type="length"/>
</valUnit>
</Band>
</covDim>
</ImgDesc>
</contInfo>
<mdDateSt Sync="TRUE">20251209</mdDateSt>
</metadata>
