{
 "extent": {
  "ymin": 40.940449579161957,
  "xmin": -72.707213645366949,
  "ymax": 41.479169255048433,
  "xmax": -71.779433619928312,
  "spatialReference": {
   "latestWkid": 4326,
   "wkid": 4326
  }
 },
 "blockWidth": 128,
 "mosaicOperator": "First",
 "serviceSourceType": "esriImageServiceSourceTypeDataset",
 "hasMultidimensions": false,
 "maxImageWidth": 15000,
 "meanValues": [
  1.590372715874
 ],
 "hasColormap": false,
 "compressionType": "LZW",
 "defaultCompressionQuality": 75,
 "maxValues": [
  4.9999204819276999
 ],
 "hasHistograms": true,
 "datasetFormat": "TIFF",
 "maxImageHeight": 4100,
 "sortField": "",
 "bandNames": [
  "Band_1"
 ],
 "spatialReference": {
  "latestWkid": 4326,
  "wkid": 4326
 },
 "fullExtent": {
  "ymin": 40.940449579161957,
  "xmin": -72.707213645366949,
  "ymax": 41.479169255048433,
  "xmax": -71.779433619928312,
  "spatialReference": {
   "latestWkid": 4326,
   "wkid": 4326
  }
 },
 "bandCount": 1,
 "rasterFunctionInfos": [
  {
   "help": "",
   "name": "None",
   "description": ""
  }
 ],
 "supportsStatistics": false,
 "sortableFields": "MinPS,MaxPS,LowPS,HighPS,CenterX,CenterY,ZOrder,Shape_Length,Shape_Area",
 "minValues": [
  0.66979999999999995
 ],
 "allowRasterFunction": true,
 "allowComputeTiePoints": false,
 "serviceDataType": "esriImageServiceDataTypeGeneric",
 "supportsAdvancedQueries": false,
 "currentVersion": 12.1,
 "sortValue": null,
 "objectIdField": "",
 "blockHeight": 128,
 "initialExtent": {
  "ymin": 40.940449579161957,
  "xmin": -72.707213645366949,
  "ymax": 41.479169255048433,
  "xmax": -71.779433619928312,
  "spatialReference": {
   "latestWkid": 4326,
   "wkid": 4326
  }
 },
 "pixelSizeX": 0.00008983152841195162,
 "pixelSizeY": 0.000089831528411951986,
 "defaultMosaicMethod": "Center",
 "name": "R2/lai2019_AOI",
 "allowedMosaicMethods": "",
 "fields": [],
 "allowAnalysis": true,
 "hasRasterAttributeTable": false,
 "useStandardizedQueries": false,
 "description": "",
 "pixelType": "F64",
 "meanPixelSize": 9.9999999999999609,
 "exportTilesAllowed": false,
 "editFieldsInfo": null,
 "rasterTypeInfos": [
  {
   "help": "",
   "name": "Raster Dataset",
   "description": "Supports all ArcGIS Raster Datasets"
  }
 ],
 "defaultResamplingMethod": "Bilinear",
 "itemAccess": false,
 "minScale": 0,
 "serviceProperties": "Center<\/MosaicMethod>First<\/MosaicOperator>true<\/SortAscending><\/LockImageID><\/TileOrderField>0<\/TileOrderBase>600.000000<\/AvgImageSpacingX>300.000000<\/AvgImageSpacingY>0.0<\/ViewPointX>0.0<\/ViewPointY>0.0<\/ViewPointDefShiftX>0.0<\/ViewPointDefShiftY>None<\/CompressionMethod>75<\/CompressionQuality>0.010000<\/CompressionTolerance>Bilinear<\/SamplingMethod><\/ImageServiceProperties><\/ImageServer>",
 "advancedQueryCapabilities": {
  "supportsStatistics": false,
  "supportsSqlExpression": false,
  "supportsOrderBy": false,
  "useStandardizedQueries": false,
  "supportsPagination": false,
  "supportsDistinct": false
 },
 "capabilities": "Mensuration,Image,Metadata",
 "maxScale": 0,
 "stdvValues": [
  1.1621845273624001
 ],
 "allowedFields": "",
 "minPixelSize": 0,
 "resampling": false,
 "noDataValues": [
  1.7976931348623157E+308
 ],
 "sortAscending": true,
 "inspectionCapabilities": "",
 "maxPixelSize": 0,
 "noDataValue": 1.7976931348623157E+308,
 "allowedCompressions": "None,JPEG,LZ77,LERC",
 "uncompressedSize": 495496128,
 "serviceDescription": "R2/lai2019_AOI",
 "allowCopy": true,
 "copyrightText": "",
 "mensurationCapabilities": "Basic",
 "ownershipBasedAccessControlForRasters": null
}
