View In:
ArcGIS JavaScript
ArcGIS Online Map Viewer
ArcGIS Earth
Service Description: OCSPP/Pasture
Name: OCSPP/Pasture
Description:
Single Fused Map Cache: false
Extent:
XMin: -2.00375070672E7
YMin: -1617465.2890999988
XMax: 2.0037507842788246E7
YMax: 1.1545484710900001E7
Spatial Reference: 102100
(3857)
Initial Extent:
XMin: -2.00375070672E7
YMin: -1617465.2890999988
XMax: 2.0037507842788246E7
YMax: 1.1545484710900001E7
Spatial Reference: 102100
(3857)
Full Extent:
XMin: -2.00375070672E7
YMin: -1617465.2890999988
XMax: 2.0037507842788246E7
YMax: 1.1545484710900001E7
Spatial Reference: 102100
(3857)
Pixel Size X: 29.99999618963752
Pixel Size Y: 30.0
Band Count: 1
Pixel Type: S32
RasterFunction Infos: {"rasterFunctionInfos": [
{
"help": "",
"name": "USEPA_OCSPP_AgLayersFullExtent",
"description": "Full Extent distance from agricultural crops as used for U.S. EPA pesticide modeling. 0: On Field | 30: Directly adjacent / runoff to terrestrial habitats | 305: Limits of spray drift for ground application or airblast (305 meters = 1,000 feet) | 792: Limits of spray drift for aerial applications (792 meters = 2,600 feet) | 1600: Runoff to wetland habitat"
},
{
"help": "",
"name": "None",
"description": "Make a Raster or Raster Dataset into a Function Raster Dataset."
},
{
"help": "",
"name": "USEPA_OCSPP_AgLayersLimitedExtent",
"description": "Limited Extent distance from agricultural crops as used for U.S. EPA pesticide modeling. 0: On Field | 30: Directly adjacent / runoff to terrestrial habitats | 150: Common limit of spray drift for population level effects (150 meters = 500 feet)"
},
{
"help": "",
"name": "USEPA_OCSPP_AgLayersUseSite",
"description": "Use sites of agricultural crops as used for U.S. EPA pesticide modeling. 0: On Field"
}
]}
Mensuration Capabilities: Basic
Inspection Capabilities:
Has Histograms: true
Has Colormap: false
Has Multi Dimensions : false
Rendering Rule:
Min Scale: 0
Max Scale: 0
Copyright Text:
Service Data Type: esriImageServiceDataTypeGeneric
Min Values: 1
Max Values: 1485
Mean Values: 913.55000000000007
Standard Deviation Values: 483.89945341223336
Object ID Field: OBJECTID
Fields:
-
OBJECTID
(
alias: OBJECTID, type: esriFieldTypeOID
)
-
Shape
(
alias: Shape, type: esriFieldTypeGeometry
)
-
Name
(
length: 200, alias: Name, type: esriFieldTypeString
)
-
MinPS
(
alias: MinPS, type: esriFieldTypeDouble
)
-
MaxPS
(
alias: MaxPS, type: esriFieldTypeDouble
)
-
LowPS
(
alias: LowPS, type: esriFieldTypeDouble
)
-
HighPS
(
alias: HighPS, type: esriFieldTypeDouble
)
-
Category
(
alias: Category, type: esriFieldTypeInteger
, Coded Values:
[0: Unknown]
, [1: Primary]
, [2: Overview]
, ...6 more...
)
-
Tag
(
length: 100, alias: Tag, type: esriFieldTypeString
)
-
GroupName
(
length: 100, alias: GroupName, type: esriFieldTypeString
)
-
ProductName
(
length: 100, alias: ProductName, type: esriFieldTypeString
)
-
CenterX
(
alias: CenterX, type: esriFieldTypeDouble
)
-
CenterY
(
alias: CenterY, type: esriFieldTypeDouble
)
-
ZOrder
(
alias: ZOrder, type: esriFieldTypeInteger
)
-
Shape_Length
(
alias: Shape_Length, type: esriFieldTypeDouble
)
-
Shape_Area
(
alias: Shape_Area, type: esriFieldTypeDouble
)
Default Mosaic Method: Northwest
Allowed Mosaic Methods: NorthWest,Center,LockRaster,ByAttribute,Nadir,Viewpoint,Seamline,None
SortField:
SortValue: N/A
Mosaic Operator: First
Default Compression Quality: 75
Default Resampling Method: Bilinear
Max Record Count: 1000
Max Image Height: 4100
Max Image Width: 15000
Max Download Image Count: 20
Max Mosaic Image Count: 20
Allow Raster Function: true
Allow Copy: true
Allow Analysis: true
Allow Compute TiePoints: false
Supports Statistics: true
Supports Advanced Queries: true
Use StandardizedQueries: true
Raster Type Infos:
Name: Raster Dataset
Description: Supports all ArcGIS Raster Datasets
Help:
Has Raster Attribute Table: false
Edit Fields Info: N/A
Ownership Based AccessControl For Rasters: N/A
Child Resources:
Info
Histograms
Statistics
Key Properties
Legend
Raster Function Infos
Supported Operations:
Export Image
Query
Identify
Measure
Compute Histograms
Compute Statistics Histograms
Get Samples
Compute Class Statistics
Query GPS Info
Find Images
Image to Map
Map to Image
Measure from Image
Image to Map Multiray
Query Boundary
Compute Pixel Location
Compute Angles
Validate
Project