View In:
ArcGIS JavaScript
ArcGIS Online Map Viewer
ArcGIS Earth
Service Description: Full Metadata. Groundwater emergence and shoaling extents are derived from water table depth GeoTIFFs, which are calculated as steady-state groundwater model heads subtracted from high-resolution topographic digital elevation model (DEM) land surface elevations. Results are provided as image services of water table depth in specific depth ranges (lt 0 m, 0 m, 1 m, 2 m, 3-5 m, gt 5 m). This image service depicts results for binned water table depths for the scenario using a K value of Kzell1 and a sea level of slr0p50m above Mean Highest High Water (MHHW).
Name: OLEM_WTD/Kzell1_slr0p50m
Description:
Single Fused Map Cache: false
Extent:
XMin: -8645011.33320162
YMin: 4553952.772384321
XMax: -7445921.333201621
YMax: 5694772.772384321
Spatial Reference: 102100
(3857)
Initial Extent:
XMin: -8645011.33320162
YMin: 4553952.772384321
XMax: -7445921.333201621
YMax: 5694772.772384321
Spatial Reference: 102100
(3857)
Full Extent:
XMin: -8645011.33320162
YMin: 4553952.772384321
XMax: -7445921.333201621
YMax: 5694772.772384321
Spatial Reference: 102100
(3857)
Pixel Size X: 10.0
Pixel Size Y: 10.0
Band Count: 1
Pixel Type: S16
RasterFunction Infos: {"rasterFunctionInfos": [
{
"help": "",
"name": "Raster Function Template New",
"description": "New RFT."
},
{
"help": "",
"name": "None",
"description": ""
}
]}
Mensuration Capabilities: Basic
Inspection Capabilities:
Has Histograms: false
Has Colormap: false
Has Multi Dimensions : false
Rendering Rule:
Min Scale: 0
Max Scale: 0
Resampling: false
Copyright Text: USEPA
Service Data Type: esriImageServiceDataTypeGeneric
Min Values: -122
Max Values: 159
Mean Values: 10.361993213965
Standard Deviation Values: 13.203002658056
Object ID Field:
Fields:
None
Default Mosaic Method: Center
Allowed Mosaic Methods:
SortField:
SortValue: N/A
Mosaic Operator: First
Default Compression Quality: 75
Default Resampling Method: Bilinear
Max Record Count: null
Max Image Height: 4100
Max Image Width: 15000
Max Download Image Count: null
Max Mosaic Image Count: null
Allow Raster Function: true
Allow Copy: true
Allow Analysis: true
Allow Compute TiePoints: false
Supports Statistics: false
Supports Advanced Queries: false
Use StandardizedQueries: false
Raster Type Infos:
Name: Raster Dataset
Description: Supports all ArcGIS Raster Datasets
Help:
Has Raster Attribute Table: false
Edit Fields Info: N/A
Ownership Based AccessControl For Rasters: N/A
Child Resources:
Info
Statistics
Key Properties
Legend
Raster Function Infos
Supported Operations:
Export Image
Identify
Measure
Compute Histograms
Compute Statistics Histograms
Get Samples
Compute Class Statistics
Query Boundary
Compute Pixel Location
Compute Angles
Validate
Project