View In:
ArcGIS JavaScript
ArcGIS Online Map Viewer
ArcGIS Earth
Service Description: This layer is a national-level suitability map for informing waste staging/storage location selection based on suitability factors such as soil type, land cover, topography, ease of transportation, and proximity to surface waters. Users can combine the resulting suitability ratings with other important geospatial data to aid in the selection of candidate areas.
Name: ORD/HSRP_WROS_30m
Description:
Single Fused Map Cache: false
Extent:
XMin: -1.52659116436E7
YMin: 2250117.8537999988
XMax: -5975991.6436
YMax: 7275387.853799999
Spatial Reference: 102100
(3857)
Initial Extent:
XMin: -1.52659116436E7
YMin: 2250117.8537999988
XMax: -5975991.6436
YMax: 7275387.853799999
Spatial Reference: 102100
(3857)
Full Extent:
XMin: -1.52659116436E7
YMin: 2250117.8537999988
XMax: -5975991.6436
YMax: 7275387.853799999
Spatial Reference: 102100
(3857)
Pixel Size X: 30.0
Pixel Size Y: 30.0
Band Count: 1
Pixel Type: U32
RasterFunction Infos: {"rasterFunctionInfos": [{
"help": "",
"name": "None",
"description": "Make a Raster or Raster Dataset into a Function Raster Dataset."
}]}
Mensuration Capabilities: Basic
Inspection Capabilities:
Has Histograms: true
Has Colormap: false
Has Multi Dimensions : false
Rendering Rule:
Min Scale: 0
Max Scale: 0
Copyright Text:
Service Data Type: esriImageServiceDataTypeGeneric
Min Values: 0
Max Values: 500
Mean Values: 231.51942002953157
Standard Deviation Values: 112.37197200005593
Object ID Field: OBJECTID
Fields:
-
OBJECTID
(
alias: OBJECTID, type: esriFieldTypeOID
)
-
Shape
(
alias: Shape, type: esriFieldTypeGeometry
)
-
Name
(
length: 200, alias: Name, type: esriFieldTypeString
)
-
MinPS
(
alias: MinPS, type: esriFieldTypeDouble
)
-
MaxPS
(
alias: MaxPS, type: esriFieldTypeDouble
)
-
LowPS
(
alias: LowPS, type: esriFieldTypeDouble
)
-
HighPS
(
alias: HighPS, type: esriFieldTypeDouble
)
-
Category
(
alias: Category, type: esriFieldTypeInteger
, Coded Values:
[0: Unknown]
, [1: Primary]
, [2: Overview]
, ...6 more...
)
-
Tag
(
length: 100, alias: Tag, type: esriFieldTypeString
)
-
GroupName
(
length: 100, alias: GroupName, type: esriFieldTypeString
)
-
ProductName
(
length: 100, alias: ProductName, type: esriFieldTypeString
)
-
CenterX
(
alias: CenterX, type: esriFieldTypeDouble
)
-
CenterY
(
alias: CenterY, type: esriFieldTypeDouble
)
-
ZOrder
(
alias: ZOrder, type: esriFieldTypeInteger
)
-
Title
(
length: 1024, alias: Title, type: esriFieldTypeString
)
-
Description
(
length: 1024, alias: Description, type: esriFieldTypeString
)
-
Url
(
length: 1024, alias: Url, type: esriFieldTypeString
)
-
InputRanges
(
length: 2048, alias: InputRanges, type: esriFieldTypeString
)
-
NoDataRanges
(
length: 256, alias: NoDataRanges, type: esriFieldTypeString
)
-
RangeLabels
(
length: 1024, alias: RangeLabels, type: esriFieldTypeString
)
-
NoDataRangeLabels
(
length: 1024, alias: NoDataRangeLabels, type: esriFieldTypeString
)
-
OutputValues
(
length: 256, alias: OutputValues, type: esriFieldTypeString
)
-
Metadata
(
length: 1024, alias: Metadata, type: esriFieldTypeString
)
-
dataset_id
(
length: 1024, alias: dataset_id, type: esriFieldTypeString
)
-
Shape_Length
(
alias: Shape_Length, type: esriFieldTypeDouble
)
-
Shape_Area
(
alias: Shape_Area, type: esriFieldTypeDouble
)
Default Mosaic Method: Northwest
Allowed Mosaic Methods: NorthWest,Center,LockRaster,ByAttribute,Nadir,Viewpoint,Seamline,None
SortField:
SortValue: N/A
Mosaic Operator: First
Default Compression Quality: 75
Default Resampling Method: Nearest
Max Record Count: 1000
Max Image Height: 4100
Max Image Width: 15000
Max Download Image Count: 20
Max Mosaic Image Count: 20
Allow Raster Function: true
Allow Copy: true
Allow Analysis: true
Allow Compute TiePoints: false
Supports Statistics: true
Supports Advanced Queries: true
Use StandardizedQueries: true
Raster Type Infos:
Name: Raster Dataset
Description: Supports all ArcGIS Raster Datasets
Help:
Has Raster Attribute Table: false
Edit Fields Info: N/A
Ownership Based AccessControl For Rasters: N/A
Child Resources:
Info
Histograms
Statistics
Key Properties
Legend
Raster Function Infos
Supported Operations:
Export Image
Query
Identify
Measure
Compute Histograms
Compute Statistics Histograms
Get Samples
Compute Class Statistics
Query GPS Info
Find Images
Image to Map
Map to Image
Measure from Image
Image to Map Multiray
Query Boundary
Compute Pixel Location
Compute Angles
Validate
Project