View In:
ArcGIS JavaScript
ArcGIS Online Map Viewer
ArcGIS Earth
Service Description: R2/LISS_Temperature_Model3_2020
Name: R2/LISS_Temperature_Model3_2020
Description:
Single Fused Map Cache: false
Extent:
XMin: -72.59236161147624
YMin: 40.970551856551324
XMax: -71.81136161147623
YMax: 41.54515185655132
Spatial Reference: 4326
(4326)
Initial Extent:
XMin: -72.59236161147624
YMin: 40.970551856551324
XMax: -71.81136161147623
YMax: 41.54515185655132
Spatial Reference: 4326
(4326)
Full Extent:
XMin: -72.59236161147624
YMin: 40.970551856551324
XMax: -71.81136161147623
YMax: 41.54515185655132
Spatial Reference: 4326
(4326)
Pixel Size X: 2.000000000000015E-4
Pixel Size Y: 1.9999999999999884E-4
Band Count: 1
Pixel Type: S16
RasterFunction Infos: {"rasterFunctionInfos": [{
"help": "",
"name": "None",
"description": ""
}]}
Mensuration Capabilities: Basic
Inspection Capabilities:
Has Histograms: true
Has Colormap: false
Has Multi Dimensions : false
Rendering Rule:
Min Scale: 0
Max Scale: 0
Copyright Text:
Service Data Type: esriImageServiceDataTypeGeneric
Min Values: 21
Max Values: 24
Mean Values: 22.578977007070002
Standard Deviation Values: 0.76514532820060999
Object ID Field:
Fields:
None
Default Mosaic Method: Center
Allowed Mosaic Methods:
SortField:
SortValue: N/A
Mosaic Operator: First
Default Compression Quality: 75
Default Resampling Method: Bilinear
Max Record Count: null
Max Image Height: 4100
Max Image Width: 15000
Max Download Image Count: null
Max Mosaic Image Count: null
Allow Raster Function: true
Allow Copy: true
Allow Analysis: true
Allow Compute TiePoints: false
Supports Statistics: false
Supports Advanced Queries: false
Use StandardizedQueries: false
Raster Type Infos:
Name: Raster Dataset
Description: Supports all ArcGIS Raster Datasets
Help:
Has Raster Attribute Table: false
Edit Fields Info: N/A
Ownership Based AccessControl For Rasters: N/A
Child Resources:
Info
Histograms
Statistics
Key Properties
Legend
Raster Function Infos
Supported Operations:
Export Image
Identify
Measure
Compute Histograms
Compute Statistics Histograms
Get Samples
Compute Class Statistics
Query Boundary
Compute Pixel Location
Compute Angles
Validate
Project