View In:
ArcGIS JavaScript
ArcGIS Online Map Viewer
ArcGIS Earth
Service Description: R2/lai2020_AOI
Name: R2/lai2020_AOI
Description:
Single Fused Map Cache: false
Extent:
XMin: -72.70721364536695
YMin: 40.94044957916196
XMax: -71.77943361992831
YMax: 41.47916925504843
Spatial Reference: 4326
(4326)
Initial Extent:
XMin: -72.70721364536695
YMin: 40.94044957916196
XMax: -71.77943361992831
YMax: 41.47916925504843
Spatial Reference: 4326
(4326)
Full Extent:
XMin: -72.70721364536695
YMin: 40.94044957916196
XMax: -71.77943361992831
YMax: 41.47916925504843
Spatial Reference: 4326
(4326)
Pixel Size X: 8.983152841195162E-5
Pixel Size Y: 8.983152841195199E-5
Band Count: 1
Pixel Type: F64
RasterFunction Infos: {"rasterFunctionInfos": [{
"help": "",
"name": "None",
"description": ""
}]}
Mensuration Capabilities: Basic
Inspection Capabilities:
Has Histograms: true
Has Colormap: false
Has Multi Dimensions : false
Rendering Rule:
Min Scale: 0
Max Scale: 0
Copyright Text:
Service Data Type: esriImageServiceDataTypeGeneric
Min Values: 0.66979999999999995
Max Values: 4.9999132231681003
Mean Values: 1.969332657689
Standard Deviation Values: 1.2862665090095
Object ID Field:
Fields:
None
Default Mosaic Method: Center
Allowed Mosaic Methods:
SortField:
SortValue: N/A
Mosaic Operator: First
Default Compression Quality: 75
Default Resampling Method: Bilinear
Max Record Count: null
Max Image Height: 4100
Max Image Width: 15000
Max Download Image Count: null
Max Mosaic Image Count: null
Allow Raster Function: true
Allow Copy: true
Allow Analysis: true
Allow Compute TiePoints: false
Supports Statistics: false
Supports Advanced Queries: false
Use StandardizedQueries: false
Raster Type Infos:
Name: Raster Dataset
Description: Supports all ArcGIS Raster Datasets
Help:
Has Raster Attribute Table: false
Edit Fields Info: N/A
Ownership Based AccessControl For Rasters: N/A
Child Resources:
Info
Histograms
Statistics
Key Properties
Legend
Raster Function Infos
Supported Operations:
Export Image
Identify
Measure
Compute Histograms
Compute Statistics Histograms
Get Samples
Compute Class Statistics
Query Boundary
Compute Pixel Location
Compute Angles
Validate
Project