View In:
ArcGIS JavaScript
ArcGIS Online Map Viewer
ArcGIS Earth
Service Description: OECA/msep_imagery
Name: OECA/msep_imagery
Description:
Single Fused Map Cache: false
Extent:
XMin: -119.71856623499997
YMin: 35.15438374700006
XMax: -119.06859819399997
YMax: 35.61856193500006
Spatial Reference: 4326
(4326)
Initial Extent:
XMin: -119.71856623499997
YMin: 35.15438374700006
XMax: -119.06859819399997
YMax: 35.61856193500006
Spatial Reference: 4326
(4326)
Full Extent:
XMin: -119.71856623499997
YMin: 35.15438374700006
XMax: -119.06859819399997
YMax: 35.61856193500006
Spatial Reference: 4326
(4326)
Pixel Size X: 5.38989999999995E-5
Pixel Size Y: 5.389899999999979E-5
Band Count: 4
Pixel Type: U8
RasterFunction Infos: {"rasterFunctionInfos": [{
"help": "",
"name": "None",
"description": ""
}]}
Mensuration Capabilities: Basic
Inspection Capabilities:
Has Histograms: true
Has Colormap: false
Has Multi Dimensions : false
Rendering Rule:
Min Scale: 0
Max Scale: 0
Resampling: false
Copyright Text:
Service Data Type: esriImageServiceDataTypeGeneric
Min Values: 0, 0, 0, 0
Max Values: 117, 153, 237, 255
Mean Values: 3.2247191011235952, 4.1685393258426986, 7.7134831460674187, 11.685393258426963
Standard Deviation Values: 14.153918072862561, 19.283924369726066, 34.60727101359177, 47.933356632861233
Object ID Field: objectid
Fields:
-
objectid
(
alias: objectid, type: esriFieldTypeOID
)
-
name
(
length: 200, alias: name, type: esriFieldTypeString
)
-
minps
(
alias: minps, type: esriFieldTypeDouble
)
-
maxps
(
alias: maxps, type: esriFieldTypeDouble
)
-
lowps
(
alias: lowps, type: esriFieldTypeDouble
)
-
highps
(
alias: highps, type: esriFieldTypeDouble
)
-
category
(
alias: category, type: esriFieldTypeInteger
, Coded Values:
[0: Unknown]
, [1: Primary]
, [2: Overview]
, ...6 more...
)
-
tag
(
length: 100, alias: tag, type: esriFieldTypeString
)
-
groupname
(
length: 100, alias: groupname, type: esriFieldTypeString
)
-
productname
(
length: 100, alias: productname, type: esriFieldTypeString
)
-
centerx
(
alias: centerx, type: esriFieldTypeDouble
)
-
centery
(
alias: centery, type: esriFieldTypeDouble
)
-
zorder
(
alias: zorder, type: esriFieldTypeInteger
)
-
shape
(
alias: shape, type: esriFieldTypeGeometry
)
-
attachment_id
(
alias: attachment_id, type: esriFieldTypeInteger
)
-
tpn_notification_id
(
length: 1073741822, alias: tpn_notification_id, type: esriFieldTypeString
)
-
created_dt
(
length: 8, alias: created_dt, type: esriFieldTypeDate
)
-
updated_dt
(
length: 8, alias: updated_dt, type: esriFieldTypeDate
)
-
date_of_detection
(
length: 8, alias: date_of_detection, type: esriFieldTypeDate
)
-
date_of_response
(
length: 8, alias: date_of_response, type: esriFieldTypeDate
)
-
methane_emissions
(
length: 100, alias: methane_emissions, type: esriFieldTypeString
)
-
notification_status
(
length: 100, alias: notification_status, type: esriFieldTypeString
)
-
facility_id
(
alias: facility_id, type: esriFieldTypeInteger
)
-
facility_name
(
length: 100, alias: facility_name, type: esriFieldTypeString
)
-
facility_state
(
length: 50, alias: facility_state, type: esriFieldTypeString
)
-
facility_postal_code
(
length: 50, alias: facility_postal_code, type: esriFieldTypeString
)
-
region_name
(
length: 25, alias: region_name, type: esriFieldTypeString
)
-
st_area(shape)
(
alias: st_area(shape), type: esriFieldTypeDouble
)
-
st_perimeter(shape)
(
alias: st_perimeter(shape), type: esriFieldTypeDouble
)
Default Mosaic Method: Northwest
Allowed Mosaic Methods: NorthWest,Center,LockRaster,ByAttribute,Nadir,Viewpoint,Seamline,None
SortField:
SortValue: N/A
Mosaic Operator: First
Default Compression Quality: 75
Default Resampling Method: Bilinear
Max Record Count: 1000
Max Image Height: 4100
Max Image Width: 15000
Max Download Image Count: 20
Max Mosaic Image Count: 20
Allow Raster Function: true
Allow Copy: true
Allow Analysis: true
Allow Compute TiePoints: false
Supports Statistics: true
Supports Advanced Queries: true
Use StandardizedQueries: true
Raster Type Infos:
Name: Raster Dataset
Description: Supports all ArcGIS Raster Datasets
Help:
Has Raster Attribute Table: false
Edit Fields Info: N/A
Ownership Based AccessControl For Rasters: N/A
Child Resources:
Info
Histograms
Statistics
Key Properties
Legend
Raster Function Infos
Supported Operations:
Export Image
Query
Identify
Measure
Compute Histograms
Compute Statistics Histograms
Get Samples
Compute Class Statistics
Query GPS Info
Find Images
Image to Map
Map to Image
Measure from Image
Image to Map Multiray
Query Boundary
Compute Pixel Location
Compute Angles
Validate
Project